BEGIN:VCALENDAR
VERSION:2.0
PRODID:-//AusschreibungsRadar//Timeline//DE
CALSCALE:GREGORIAN
METHOD:PUBLISH
X-WR-CALNAME:Projekt Neubau einer 3-fach-Sporthalle am Gymnasium Georgianum Vrede
X-WR-TIMEZONE:Europe/Berlin
BEGIN:VEVENT
UID:cd0a90f2848e5aa4@ausschreibungsradar.com
DTSTAMP:20260423T232943Z
DTSTART;VALUE=DATE:20250929
DTEND;VALUE=DATE:20250929
SUMMARY:Angebotsfrist — Neubau einer 3-fach-Sporthalle am Gymnasium Georgianum Vrede
DESCRIPTION:Phase: Ausschreibung | Beschreibung: Angebote werden eingeholt | Link: https://ausschreibungsradar.com/ausschreibung/1dd1bb83-db0e-42b4-a31c-be544a473dca/
URL:https://ausschreibungsradar.com/ausschreibung/1dd1bb83-db0e-42b4-a31c-be544a473dca/
END:VEVENT
BEGIN:VEVENT
UID:2a5c57849b573720@ausschreibungsradar.com
DTSTAMP:20260423T232943Z
DTSTART;VALUE=DATE:20251104
DTEND;VALUE=DATE:20251104
SUMMARY:Zuschlag — Neubau einer 3-fach-Sporthalle am Gymnasium Georgianum Vrede
DESCRIPTION:Phase: Zuschlag | Beschreibung: Vergabeergebnis — Auftrag wurde erteilt oder Verfahren beendet. | Link: https://ausschreibungsradar.com/ausschreibung/d72d2090-7984-4478-9d3f-9e8f6884560e/
URL:https://ausschreibungsradar.com/ausschreibung/d72d2090-7984-4478-9d3f-9e8f6884560e/
END:VEVENT
BEGIN:VEVENT
UID:6a4b1e44825c0eac@ausschreibungsradar.com
DTSTAMP:20260423T232943Z
DTSTART;VALUE=DATE:20251112
DTEND;VALUE=DATE:20251112
SUMMARY:Zuschlag — Neubau einer 3-fach-Sporthalle am Gymnasium Georgianum Vrede
DESCRIPTION:Phase: Zuschlag | Beschreibung: Vergabeergebnis — Auftrag wurde erteilt oder Verfahren beendet. | Link: https://ausschreibungsradar.com/ausschreibung/d43e44cf-188e-404d-ba49-7f2959b17190/
URL:https://ausschreibungsradar.com/ausschreibung/d43e44cf-188e-404d-ba49-7f2959b17190/
END:VEVENT
BEGIN:VEVENT
UID:236d6d55360652a5@ausschreibungsradar.com
DTSTAMP:20260423T232943Z
DTSTART;VALUE=DATE:20251121
DTEND;VALUE=DATE:20251121
SUMMARY:Zuschlag — Neubau einer 3-fach-Sporthalle am Gymnasium Georgianum Vrede
DESCRIPTION:Phase: Zuschlag | Beschreibung: Vergabeergebnis — Auftrag wurde erteilt oder Verfahren beendet. | Link: https://ausschreibungsradar.com/ausschreibung/1ee06fb4-d8ae-4092-a6c1-5b13f429417d/
URL:https://ausschreibungsradar.com/ausschreibung/1ee06fb4-d8ae-4092-a6c1-5b13f429417d/
END:VEVENT
BEGIN:VEVENT
UID:bfbeef496576ac71@ausschreibungsradar.com
DTSTAMP:20260423T232943Z
DTSTART;VALUE=DATE:20251124
DTEND;VALUE=DATE:20251124
SUMMARY:Vergabeergebnis — Neubau einer 3-fach-Sporthalle am Gymnasium Georgianum Vrede
DESCRIPTION:Phase: Vergabeergebnis | Beschreibung: Auftrag wurde zugeschlagen | Link: https://ausschreibungsradar.com/ausschreibung/9726f2d7-e7bf-43ab-9bfa-a21cf5e8f6ee/
URL:https://ausschreibungsradar.com/ausschreibung/9726f2d7-e7bf-43ab-9bfa-a21cf5e8f6ee/
END:VEVENT
BEGIN:VEVENT
UID:5eebee1942100cb9@ausschreibungsradar.com
DTSTAMP:20260423T232943Z
DTSTART;VALUE=DATE:20251126
DTEND;VALUE=DATE:20251126
SUMMARY:Zuschlag — Neubau einer 3-fach-Sporthalle am Gymnasium Georgianum Vrede
DESCRIPTION:Phase: Zuschlag | Beschreibung: Vergabeergebnis — Auftrag wurde erteilt oder Verfahren beendet. | Link: https://ausschreibungsradar.com/ausschreibung/e1455db1-fe30-4026-a512-b5a54b078d77/
URL:https://ausschreibungsradar.com/ausschreibung/e1455db1-fe30-4026-a512-b5a54b078d77/
END:VEVENT
END:VCALENDAR
