BEGIN:VCALENDAR
VERSION:2.0
PRODID:-//AusschreibungsRadar//Timeline//DE
CALSCALE:GREGORIAN
METHOD:PUBLISH
X-WR-CALNAME:Projekt Schloss Neu-Augustusburg Weißenfels - Durchführung der denkm
X-WR-TIMEZONE:Europe/Berlin
BEGIN:VEVENT
UID:dbaf5e338cb66020@ausschreibungsradar.com
DTSTAMP:20260425T223858Z
DTSTART;VALUE=DATE:20260420
DTEND;VALUE=DATE:20260420
SUMMARY:Ausschreibung — Schloss Neu-Augustusburg Weißenfels - Durchführung der denkm
DESCRIPTION:Phase: Ausschreibung | Beschreibung: Offizielle Ausschreibung mit Bieterfrist. | Link: https://ausschreibungsradar.com/ausschreibung/978bf846-8d57-46f0-af6f-2112ed1d6593/
URL:https://ausschreibungsradar.com/ausschreibung/978bf846-8d57-46f0-af6f-2112ed1d6593/
END:VEVENT
BEGIN:VEVENT
UID:0a485e6750bb5497@ausschreibungsradar.com
DTSTAMP:20260425T223858Z
DTSTART;VALUE=DATE:20260420
DTEND;VALUE=DATE:20260420
SUMMARY:Ausschreibung — Schloss Neu-Augustusburg Weißenfels - Durchführung der denkm
DESCRIPTION:Phase: Ausschreibung | Beschreibung: Offizielle Ausschreibung mit Bieterfrist. | Link: https://ausschreibungsradar.com/ausschreibung/93efae11-3ee2-4359-b053-21736bb37b19/
URL:https://ausschreibungsradar.com/ausschreibung/93efae11-3ee2-4359-b053-21736bb37b19/
END:VEVENT
END:VCALENDAR
