BEGIN:VCALENDAR
VERSION:2.0
PRODID:-//AusschreibungsRadar//Timeline//DE
CALSCALE:GREGORIAN
METHOD:PUBLISH
X-WR-CALNAME:Projekt Rahmenvereinbarung DELL Server und Speichertechnik
X-WR-TIMEZONE:Europe/Berlin
BEGIN:VEVENT
UID:64c843b442f2f22c@ausschreibungsradar.com
DTSTAMP:20260424T222510Z
DTSTART;VALUE=DATE:20250923
DTEND;VALUE=DATE:20250923
SUMMARY:Angebotsfrist — Rahmenvereinbarung DELL Server und Speichertechnik
DESCRIPTION:Phase: Ausschreibung | Beschreibung: Angebote werden eingeholt | Link: https://ausschreibungsradar.com/ausschreibung/9138378f-9272-465e-8c66-ed0d4edd3fa4/ | Geschätzter Wert: 48000000 €
URL:https://ausschreibungsradar.com/ausschreibung/9138378f-9272-465e-8c66-ed0d4edd3fa4/
END:VEVENT
BEGIN:VEVENT
UID:fe558635d167d07a@ausschreibungsradar.com
DTSTAMP:20260424T222510Z
DTSTART;VALUE=DATE:20260105
DTEND;VALUE=DATE:20260105
SUMMARY:Vergabeergebnis — Rahmenvereinbarung DELL Server und Speichertechnik
DESCRIPTION:Phase: Vergabeergebnis | Beschreibung: Auftrag wurde zugeschlagen | Link: https://ausschreibungsradar.com/ausschreibung/9805e06e-9d2d-4456-8504-9c1e2729ef9a/ | Geschätzter Wert: 48000000 €
URL:https://ausschreibungsradar.com/ausschreibung/9805e06e-9d2d-4456-8504-9c1e2729ef9a/
END:VEVENT
END:VCALENDAR
