BEGIN:VCALENDAR
VERSION:2.0
PRODID:-//AusschreibungsRadar//Timeline//DE
CALSCALE:GREGORIAN
METHOD:PUBLISH
X-WR-CALNAME:Projekt RRX, PA5b, Bochum, Erkundungsbohrungen: Los 1 Bochum Hbf, Lo
X-WR-TIMEZONE:Europe/Berlin
BEGIN:VEVENT
UID:9f6fae361f3c30b3@ausschreibungsradar.com
DTSTAMP:20260425T180838Z
DTSTART;VALUE=DATE:20250205
DTEND;VALUE=DATE:20250205
SUMMARY:Ausschreibung — RRX\, PA5b\, Bochum\, Erkundungsbohrungen: Los 1 Bochum Hbf\, Lo
DESCRIPTION:Phase: Ausschreibung | Beschreibung: Angebote werden eingeholt | Link: https://ausschreibungsradar.com/ausschreibung/982c7f55-0373-4dff-a89f-055c811fea83/
URL:https://ausschreibungsradar.com/ausschreibung/982c7f55-0373-4dff-a89f-055c811fea83/
END:VEVENT
BEGIN:VEVENT
UID:9d3738726a0571c6@ausschreibungsradar.com
DTSTAMP:20260425T180838Z
DTSTART;VALUE=DATE:20250324
DTEND;VALUE=DATE:20250324
SUMMARY:Vergabeergebnis — RRX\, PA5b\, Bochum\, Erkundungsbohrungen: Los 1 Bochum Hbf\, Lo
DESCRIPTION:Phase: Vergabeergebnis | Beschreibung: Bedarf hat sich geändert | Link: https://ausschreibungsradar.com/ausschreibung/a7fb92d9-b86e-4090-aeaf-b4b94ebadda7/
URL:https://ausschreibungsradar.com/ausschreibung/a7fb92d9-b86e-4090-aeaf-b4b94ebadda7/
END:VEVENT
END:VCALENDAR
