BEGIN:VCALENDAR
VERSION:2.0
PRODID:-//AusschreibungsRadar//Timeline//DE
CALSCALE:GREGORIAN
METHOD:PUBLISH
X-WR-CALNAME:Projekt Jungbestands- und Schlagpflege im Forstbezirk Baar/Hegau für
X-WR-TIMEZONE:Europe/Berlin
BEGIN:VEVENT
UID:0a8bccb169ba91f3@ausschreibungsradar.com
DTSTAMP:20260425T230805Z
DTSTART;VALUE=DATE:20240617
DTEND;VALUE=DATE:20240617
SUMMARY:Angebotsfrist — Jungbestands- und Schlagpflege im Forstbezirk Baar/Hegau für
DESCRIPTION:Phase: Ausschreibung | Beschreibung: Angebote werden eingeholt | Link: https://ausschreibungsradar.com/ausschreibung/0f6905ff-1117-41f6-9b9c-80c2252ea4af/
URL:https://ausschreibungsradar.com/ausschreibung/0f6905ff-1117-41f6-9b9c-80c2252ea4af/
END:VEVENT
BEGIN:VEVENT
UID:c309708f0bb3a9ef@ausschreibungsradar.com
DTSTAMP:20260425T230805Z
DTSTART;VALUE=DATE:20240620
DTEND;VALUE=DATE:20240620
SUMMARY:Ausschreibung — Jungbestands- und Schlagpflege im Forstbezirk Baar/Hegau für
DESCRIPTION:Phase: Ausschreibung | Beschreibung: Offizielle Ausschreibung mit Bieterfrist. | Link: https://ausschreibungsradar.com/ausschreibung/cf820742-58e2-42a3-ae6a-213794702897/
URL:https://ausschreibungsradar.com/ausschreibung/cf820742-58e2-42a3-ae6a-213794702897/
END:VEVENT
BEGIN:VEVENT
UID:f2dc527473e08f9c@ausschreibungsradar.com
DTSTAMP:20260425T230805Z
DTSTART;VALUE=DATE:20240717
DTEND;VALUE=DATE:20240717
SUMMARY:Vergabeergebnis — Jungbestands- und Schlagpflege im Forstbezirk Baar/Hegau für
DESCRIPTION:Phase: Vergabeergebnis | Beschreibung: Auftrag wurde zugeschlagen | Link: https://ausschreibungsradar.com/ausschreibung/98c859f5-4703-4a8a-ae9a-e83e232640b5/
URL:https://ausschreibungsradar.com/ausschreibung/98c859f5-4703-4a8a-ae9a-e83e232640b5/
END:VEVENT
END:VCALENDAR
