BEGIN:VCALENDAR
VERSION:2.0
PRODID:-//AusschreibungsRadar//Timeline//DE
CALSCALE:GREGORIAN
METHOD:PUBLISH
X-WR-CALNAME:Projekt Estricharbeiten
X-WR-TIMEZONE:Europe/Berlin
BEGIN:VEVENT
UID:beec8b350140779e@ausschreibungsradar.com
DTSTAMP:20260425T125544Z
DTSTART;VALUE=DATE:20250520
DTEND;VALUE=DATE:20250520
SUMMARY:Angebotsfrist — Estricharbeiten
DESCRIPTION:Phase: Ausschreibung | Beschreibung: Angebote werden eingeholt | Link: https://ausschreibungsradar.com/ausschreibung/99e39e85-2df3-4c93-a3c2-73b00ccbe28d/
URL:https://ausschreibungsradar.com/ausschreibung/99e39e85-2df3-4c93-a3c2-73b00ccbe28d/
END:VEVENT
END:VCALENDAR
