BEGIN:VCALENDAR
VERSION:2.0
PRODID:-//AusschreibungsRadar//Timeline//DE
CALSCALE:GREGORIAN
METHOD:PUBLISH
X-WR-CALNAME:Projekt 10046604 Scheidt & Bachmann Signalling Systems GmbH
X-WR-TIMEZONE:Europe/Berlin
BEGIN:VEVENT
UID:e64b308ff4d34914@ausschreibungsradar.com
DTSTAMP:20260425T134918Z
DTSTART;VALUE=DATE:20260105
DTEND;VALUE=DATE:20260105
SUMMARY:Vertragsmodifikation — 10046604 Scheidt & Bachmann Signalling Systems GmbH
DESCRIPTION:Phase: Vertragsmodifikation | Beschreibung: Änderung am bestehenden Vertrag nach Zuschlag. | Link: https://ausschreibungsradar.com/ausschreibung/36cb109b-590d-4323-b685-ac3aa6d53b36/
URL:https://ausschreibungsradar.com/ausschreibung/36cb109b-590d-4323-b685-ac3aa6d53b36/
END:VEVENT
BEGIN:VEVENT
UID:fa570fd294616c7f@ausschreibungsradar.com
DTSTAMP:20260425T134918Z
DTSTART;VALUE=DATE:20260106
DTEND;VALUE=DATE:20260106
SUMMARY:Vertragsänderung — 10046604 Scheidt & Bachmann Signalling Systems GmbH
DESCRIPTION:Phase: Vertragsänderung | Beschreibung: Zusätzliche Lieferungen/Leistungen beauftragt | Link: https://ausschreibungsradar.com/ausschreibung/9a1250df-ec1b-4ab8-8281-6ab8df6ea664/
URL:https://ausschreibungsradar.com/ausschreibung/9a1250df-ec1b-4ab8-8281-6ab8df6ea664/
END:VEVENT
BEGIN:VEVENT
UID:d8515f4509706a53@ausschreibungsradar.com
DTSTAMP:20260425T134918Z
DTSTART;VALUE=DATE:20260106
DTEND;VALUE=DATE:20260106
SUMMARY:Vertragsmodifikation — 10046604 Scheidt & Bachmann Signalling Systems GmbH
DESCRIPTION:Phase: Vertragsmodifikation | Beschreibung: Änderung am bestehenden Vertrag nach Zuschlag. | Link: https://ausschreibungsradar.com/ausschreibung/3d213314-7b3a-4e80-bb87-c84b67d51989/
URL:https://ausschreibungsradar.com/ausschreibung/3d213314-7b3a-4e80-bb87-c84b67d51989/
END:VEVENT
END:VCALENDAR
