BEGIN:VCALENDAR
VERSION:2.0
PRODID:-//AusschreibungsRadar//Timeline//DE
CALSCALE:GREGORIAN
METHOD:PUBLISH
X-WR-CALNAME:Projekt Beschaffung und Implementierung eines CAFM-Systems
X-WR-TIMEZONE:Europe/Berlin
BEGIN:VEVENT
UID:d6cf90e378cf36f4@ausschreibungsradar.com
DTSTAMP:20260425T125929Z
DTSTART;VALUE=DATE:20250331
DTEND;VALUE=DATE:20250331
SUMMARY:Ausschreibung — Beschaffung und Implementierung eines CAFM-Systems
DESCRIPTION:Phase: Ausschreibung | Beschreibung: Angebote werden eingeholt | Link: https://ausschreibungsradar.com/ausschreibung/9a7b1d01-33d9-4f4f-8ee7-fddb9db935fe/
URL:https://ausschreibungsradar.com/ausschreibung/9a7b1d01-33d9-4f4f-8ee7-fddb9db935fe/
END:VEVENT
BEGIN:VEVENT
UID:1f998a0adfd356ad@ausschreibungsradar.com
DTSTAMP:20260425T125929Z
DTSTART;VALUE=DATE:20250331
DTEND;VALUE=DATE:20250331
SUMMARY:Ausschreibung — Beschaffung und Implementierung eines CAFM-Systems
DESCRIPTION:Phase: Ausschreibung | Beschreibung: Offizielle Ausschreibung mit Bieterfrist. | Link: https://ausschreibungsradar.com/ausschreibung/5792c9c8-0bad-4b31-8d3c-4260347a4800/
URL:https://ausschreibungsradar.com/ausschreibung/5792c9c8-0bad-4b31-8d3c-4260347a4800/
END:VEVENT
BEGIN:VEVENT
UID:bfd364064488b87c@ausschreibungsradar.com
DTSTAMP:20260425T125929Z
DTSTART;VALUE=DATE:20250331
DTEND;VALUE=DATE:20250331
SUMMARY:Ausschreibung — Beschaffung und Implementierung eines CAFM-Systems
DESCRIPTION:Phase: Ausschreibung | Beschreibung: Offizielle Ausschreibung mit Bieterfrist. | Link: https://ausschreibungsradar.com/ausschreibung/3484f420-a898-4c6c-adb3-a57b2981a858/
URL:https://ausschreibungsradar.com/ausschreibung/3484f420-a898-4c6c-adb3-a57b2981a858/
END:VEVENT
END:VCALENDAR
