BEGIN:VCALENDAR
VERSION:2.0
PRODID:-//AusschreibungsRadar//Timeline//DE
CALSCALE:GREGORIAN
METHOD:PUBLISH
X-WR-CALNAME:Projekt Digitales Lernen
X-WR-TIMEZONE:Europe/Berlin
BEGIN:VEVENT
UID:85b2fa5b85da62a8@ausschreibungsradar.com
DTSTAMP:20260425T012848Z
DTSTART;VALUE=DATE:20250610
DTEND;VALUE=DATE:20250610
SUMMARY:Ausschreibung — Digitales Lernen
DESCRIPTION:Phase: Ausschreibung | Beschreibung: Angebote werden eingeholt | Link: https://ausschreibungsradar.com/ausschreibung/9a9d8d48-af82-4df9-871c-b1174bbb9d5f/
URL:https://ausschreibungsradar.com/ausschreibung/9a9d8d48-af82-4df9-871c-b1174bbb9d5f/
END:VEVENT
BEGIN:VEVENT
UID:722a051de71e5553@ausschreibungsradar.com
DTSTAMP:20260425T012848Z
DTSTART;VALUE=DATE:20250610
DTEND;VALUE=DATE:20250610
SUMMARY:Ausschreibung — Digitales Lernen
DESCRIPTION:Phase: Ausschreibung | Beschreibung: Offizielle Ausschreibung mit Bieterfrist. | Link: https://ausschreibungsradar.com/ausschreibung/9adb9bd4-1592-426c-b024-c09405c085b4/
URL:https://ausschreibungsradar.com/ausschreibung/9adb9bd4-1592-426c-b024-c09405c085b4/
END:VEVENT
BEGIN:VEVENT
UID:45cafa0ad99b247b@ausschreibungsradar.com
DTSTAMP:20260425T012848Z
DTSTART;VALUE=DATE:20250910
DTEND;VALUE=DATE:20250910
SUMMARY:Vergabeergebnis — Digitales Lernen
DESCRIPTION:Phase: Vergabeergebnis | Beschreibung: Auftrag wurde zugeschlagen | Link: https://ausschreibungsradar.com/ausschreibung/4726d50d-3c85-4a38-af83-839710e1cf5d/
URL:https://ausschreibungsradar.com/ausschreibung/4726d50d-3c85-4a38-af83-839710e1cf5d/
END:VEVENT
END:VCALENDAR
