BEGIN:VCALENDAR
VERSION:2.0
PRODID:-//AusschreibungsRadar//Timeline//DE
CALSCALE:GREGORIAN
METHOD:PUBLISH
X-WR-CALNAME:Projekt VgV Fachplanung TGA (ELT) - Neubau Kinderhaus mit Erweiterun
X-WR-TIMEZONE:Europe/Berlin
BEGIN:VEVENT
UID:0c51b37e3697fed3@ausschreibungsradar.com
DTSTAMP:20260424T232952Z
DTSTART;VALUE=DATE:20250416
DTEND;VALUE=DATE:20250416
SUMMARY:Ausschreibung — VgV Fachplanung TGA (ELT) - Neubau Kinderhaus mit Erweiterun
DESCRIPTION:Phase: Ausschreibung | Beschreibung: Angebote werden eingeholt | Link: https://ausschreibungsradar.com/ausschreibung/9aa497dd-86ba-479d-abd0-062a485f75dd/
URL:https://ausschreibungsradar.com/ausschreibung/9aa497dd-86ba-479d-abd0-062a485f75dd/
END:VEVENT
BEGIN:VEVENT
UID:99ac4a391a8538a6@ausschreibungsradar.com
DTSTAMP:20260424T232952Z
DTSTART;VALUE=DATE:20251119
DTEND;VALUE=DATE:20251119
SUMMARY:Zuschlag — VgV Fachplanung TGA (ELT) - Neubau Kinderhaus mit Erweiterun
DESCRIPTION:Phase: Zuschlag | Beschreibung: Vergabeergebnis — Auftrag wurde erteilt oder Verfahren beendet. | Link: https://ausschreibungsradar.com/ausschreibung/b527ea01-22a2-4c41-aaa1-8521d58ebc40/
URL:https://ausschreibungsradar.com/ausschreibung/b527ea01-22a2-4c41-aaa1-8521d58ebc40/
END:VEVENT
BEGIN:VEVENT
UID:b681659d21219ad1@ausschreibungsradar.com
DTSTAMP:20260424T232952Z
DTSTART;VALUE=DATE:20251119
DTEND;VALUE=DATE:20251119
SUMMARY:Zuschlag — VgV Fachplanung TGA (ELT) - Neubau Kinderhaus mit Erweiterun
DESCRIPTION:Phase: Zuschlag | Beschreibung: Vergabeergebnis — Auftrag wurde erteilt oder Verfahren beendet. | Link: https://ausschreibungsradar.com/ausschreibung/4325bb9f-cffb-4501-bec2-9924874121f6/
URL:https://ausschreibungsradar.com/ausschreibung/4325bb9f-cffb-4501-bec2-9924874121f6/
END:VEVENT
BEGIN:VEVENT
UID:79274b590a844487@ausschreibungsradar.com
DTSTAMP:20260424T232952Z
DTSTART;VALUE=DATE:20251121
DTEND;VALUE=DATE:20251121
SUMMARY:Zuschlag — VgV Fachplanung TGA (ELT) - Neubau Kinderhaus mit Erweiterun
DESCRIPTION:Phase: Zuschlag | Beschreibung: Vergabeergebnis — Auftrag wurde erteilt oder Verfahren beendet. | Link: https://ausschreibungsradar.com/ausschreibung/97e957f2-51bd-490a-b28a-5616276b98f5/
URL:https://ausschreibungsradar.com/ausschreibung/97e957f2-51bd-490a-b28a-5616276b98f5/
END:VEVENT
BEGIN:VEVENT
UID:b4c98c9d5b3ab870@ausschreibungsradar.com
DTSTAMP:20260424T232952Z
DTSTART;VALUE=DATE:20260129
DTEND;VALUE=DATE:20260129
SUMMARY:Vergabeergebnis — VgV Fachplanung TGA (ELT) - Neubau Kinderhaus mit Erweiterun
DESCRIPTION:Phase: Vergabeergebnis | Beschreibung: Auftrag wurde zugeschlagen | Link: https://ausschreibungsradar.com/ausschreibung/99774314-e492-4974-ac26-410977b48855/
URL:https://ausschreibungsradar.com/ausschreibung/99774314-e492-4974-ac26-410977b48855/
END:VEVENT
BEGIN:VEVENT
UID:ec0464888064e7ca@ausschreibungsradar.com
DTSTAMP:20260424T232952Z
DTSTART;VALUE=DATE:20260129
DTEND;VALUE=DATE:20260129
SUMMARY:Zuschlag — VgV Fachplanung TGA (ELT) - Neubau Kinderhaus mit Erweiterun
DESCRIPTION:Phase: Zuschlag | Beschreibung: Vergabeergebnis — Auftrag wurde erteilt oder Verfahren beendet. | Link: https://ausschreibungsradar.com/ausschreibung/d17d6408-db4a-4f74-8aef-9a2c208cec96/
URL:https://ausschreibungsradar.com/ausschreibung/d17d6408-db4a-4f74-8aef-9a2c208cec96/
END:VEVENT
END:VCALENDAR
