BEGIN:VCALENDAR
VERSION:2.0
PRODID:-//AusschreibungsRadar//Timeline//DE
CALSCALE:GREGORIAN
METHOD:PUBLISH
X-WR-CALNAME:Projekt Stahlbau- und Metallbauarbeiten - 1. BA - VE 017_1
X-WR-TIMEZONE:Europe/Berlin
BEGIN:VEVENT
UID:7bd4a8d9e2c7cf1e@ausschreibungsradar.com
DTSTAMP:20260425T003512Z
DTSTART;VALUE=DATE:20240904
DTEND;VALUE=DATE:20240904
SUMMARY:Angebotsfrist — Stahlbau- und Metallbauarbeiten - 1. BA - VE 017_1
DESCRIPTION:Phase: Ausschreibung | Beschreibung: Angebote werden eingeholt | Link: https://ausschreibungsradar.com/ausschreibung/9b1199f1-6ced-46a8-8a79-357a0c295c0a/
URL:https://ausschreibungsradar.com/ausschreibung/9b1199f1-6ced-46a8-8a79-357a0c295c0a/
END:VEVENT
BEGIN:VEVENT
UID:211442abee18e5c4@ausschreibungsradar.com
DTSTAMP:20260425T003512Z
DTSTART;VALUE=DATE:20240620
DTEND;VALUE=DATE:20240620
SUMMARY:Ausschreibung — Stahlbau- und Metallbauarbeiten - 1. BA - VE 017_1
DESCRIPTION:Phase: Ausschreibung | Beschreibung: Offizielle Ausschreibung mit Bieterfrist. | Link: https://ausschreibungsradar.com/ausschreibung/8b4643fd-139e-44d3-913b-332d5d421cef/
URL:https://ausschreibungsradar.com/ausschreibung/8b4643fd-139e-44d3-913b-332d5d421cef/
END:VEVENT
BEGIN:VEVENT
UID:c5aa783ce0d8a7ab@ausschreibungsradar.com
DTSTAMP:20260425T003512Z
DTSTART;VALUE=DATE:20240620
DTEND;VALUE=DATE:20240620
SUMMARY:Ausschreibung — Stahlbau- und Metallbauarbeiten - 1. BA - VE 017_1
DESCRIPTION:Phase: Ausschreibung | Beschreibung: Offizielle Ausschreibung mit Bieterfrist. | Link: https://ausschreibungsradar.com/ausschreibung/45c2917d-363a-429c-bc52-559f66fd3785/
URL:https://ausschreibungsradar.com/ausschreibung/45c2917d-363a-429c-bc52-559f66fd3785/
END:VEVENT
BEGIN:VEVENT
UID:99f23bc6b07714f0@ausschreibungsradar.com
DTSTAMP:20260425T003512Z
DTSTART;VALUE=DATE:20240620
DTEND;VALUE=DATE:20240620
SUMMARY:Ausschreibung — Stahlbau- und Metallbauarbeiten - 1. BA - VE 017_1
DESCRIPTION:Phase: Ausschreibung | Beschreibung: Offizielle Ausschreibung mit Bieterfrist. | Link: https://ausschreibungsradar.com/ausschreibung/0aa192ee-6b15-4480-a42e-d31b47a85419/
URL:https://ausschreibungsradar.com/ausschreibung/0aa192ee-6b15-4480-a42e-d31b47a85419/
END:VEVENT
BEGIN:VEVENT
UID:a239538388ced2ef@ausschreibungsradar.com
DTSTAMP:20260425T003512Z
DTSTART;VALUE=DATE:20240620
DTEND;VALUE=DATE:20240620
SUMMARY:Ausschreibung — Stahlbau- und Metallbauarbeiten - 1. BA - VE 017_1
DESCRIPTION:Phase: Ausschreibung | Beschreibung: Offizielle Ausschreibung mit Bieterfrist. | Link: https://ausschreibungsradar.com/ausschreibung/fe08ad9c-d8df-445d-9c5d-346beb830339/
URL:https://ausschreibungsradar.com/ausschreibung/fe08ad9c-d8df-445d-9c5d-346beb830339/
END:VEVENT
BEGIN:VEVENT
UID:4eaa6689eb970187@ausschreibungsradar.com
DTSTAMP:20260425T003512Z
DTSTART;VALUE=DATE:20241031
DTEND;VALUE=DATE:20241031
SUMMARY:Vergabeergebnis — Stahlbau- und Metallbauarbeiten - 1. BA - VE 017_1
DESCRIPTION:Phase: Vergabeergebnis | Beschreibung: Auftrag wurde zugeschlagen | Link: https://ausschreibungsradar.com/ausschreibung/5f95b1ad-9b8a-4d67-866a-4c0a066b813f/ | Auftragnehmer: Metalltechnik Tiepner Gmb
URL:https://ausschreibungsradar.com/ausschreibung/5f95b1ad-9b8a-4d67-866a-4c0a066b813f/
END:VEVENT
END:VCALENDAR
