BEGIN:VCALENDAR
VERSION:2.0
PRODID:-//AusschreibungsRadar//Timeline//DE
CALSCALE:GREGORIAN
METHOD:PUBLISH
X-WR-CALNAME:Projekt Friesenstr. 16_Maler- und Lackierarbeiten_Malerarbeiten
X-WR-TIMEZONE:Europe/Berlin
BEGIN:VEVENT
UID:dd2062c6a41177a9@ausschreibungsradar.com
DTSTAMP:20260424T161416Z
DTSTART;VALUE=DATE:20260210
DTEND;VALUE=DATE:20260210
SUMMARY:Angebotsfrist — Friesenstr. 16_Maler- und Lackierarbeiten_Malerarbeiten
DESCRIPTION:Phase: Ausschreibung | Beschreibung: Angebote werden eingeholt | Link: https://ausschreibungsradar.com/ausschreibung/9b9ae39c-bb6b-43c3-9b67-d9a21321e29d/
URL:https://ausschreibungsradar.com/ausschreibung/9b9ae39c-bb6b-43c3-9b67-d9a21321e29d/
END:VEVENT
BEGIN:VEVENT
UID:a21e2df2fbd62def@ausschreibungsradar.com
DTSTAMP:20260424T161416Z
DTSTART;VALUE=DATE:20260304
DTEND;VALUE=DATE:20260304
SUMMARY:Vergabeergebnis — Friesenstr. 16_Maler- und Lackierarbeiten_Malerarbeiten
DESCRIPTION:Phase: Vergabeergebnis | Beschreibung: Auftrag wurde zugeschlagen | Link: https://ausschreibungsradar.com/ausschreibung/d36437bd-2dd2-4d4d-adca-1b6d2364667b/ | Auftragnehmer: Ubrig Malermeister GmbH
URL:https://ausschreibungsradar.com/ausschreibung/d36437bd-2dd2-4d4d-adca-1b6d2364667b/
END:VEVENT
END:VCALENDAR
