BEGIN:VCALENDAR
VERSION:2.0
PRODID:-//AusschreibungsRadar//Timeline//DE
CALSCALE:GREGORIAN
METHOD:PUBLISH
X-WR-CALNAME:Projekt Mobile Visitenwagen inkl. AIO PC Klinikum Worms

X-WR-TIMEZONE:Europe/Berlin
BEGIN:VEVENT
UID:dd33e8aa71c54b9f@ausschreibungsradar.com
DTSTAMP:20260425T192612Z
DTSTART;VALUE=DATE:20250203
DTEND;VALUE=DATE:20250203
SUMMARY:Ausschreibung — Mobile Visitenwagen inkl. AIO PC Klinikum Worms\n
DESCRIPTION:Phase: Ausschreibung | Beschreibung: Angebote werden eingeholt | Link: https://ausschreibungsradar.com/ausschreibung/9c55db02-6a08-4448-a1ce-a08e576e8f54/ | Geschätzter Wert: 100 €
URL:https://ausschreibungsradar.com/ausschreibung/9c55db02-6a08-4448-a1ce-a08e576e8f54/
END:VEVENT
BEGIN:VEVENT
UID:ec6888e126b09f9c@ausschreibungsradar.com
DTSTAMP:20260425T192612Z
DTSTART;VALUE=DATE:20250203
DTEND;VALUE=DATE:20250203
SUMMARY:Ausschreibung — Mobile Visitenwagen inkl. AIO PC Klinikum Worms\n
DESCRIPTION:Phase: Ausschreibung | Beschreibung: Offizielle Ausschreibung mit Bieterfrist. | Link: https://ausschreibungsradar.com/ausschreibung/24fe7b25-1fff-418d-b450-96ebae3cb54d/
URL:https://ausschreibungsradar.com/ausschreibung/24fe7b25-1fff-418d-b450-96ebae3cb54d/
END:VEVENT
BEGIN:VEVENT
UID:92a78a24a8da9530@ausschreibungsradar.com
DTSTAMP:20260425T192612Z
DTSTART;VALUE=DATE:20250203
DTEND;VALUE=DATE:20250203
SUMMARY:Ausschreibung — Mobile Visitenwagen inkl. AIO PC Klinikum Worms\n
DESCRIPTION:Phase: Ausschreibung | Beschreibung: Offizielle Ausschreibung mit Bieterfrist. | Link: https://ausschreibungsradar.com/ausschreibung/91ca6fb9-ee65-4409-b783-fe1f4a427e89/
URL:https://ausschreibungsradar.com/ausschreibung/91ca6fb9-ee65-4409-b783-fe1f4a427e89/
END:VEVENT
BEGIN:VEVENT
UID:749c818c7f243570@ausschreibungsradar.com
DTSTAMP:20260425T192612Z
DTSTART;VALUE=DATE:20250425
DTEND;VALUE=DATE:20250425
SUMMARY:Vergabeergebnis — Mobile Visitenwagen inkl. AIO PC Klinikum Worms\n
DESCRIPTION:Phase: Vergabeergebnis | Beschreibung: Auftrag wurde zugeschlagen | Link: https://ausschreibungsradar.com/ausschreibung/d8245951-3d3f-43b2-af24-c2800b4ddbf0/ | Geschätzter Wert: 100 €
URL:https://ausschreibungsradar.com/ausschreibung/d8245951-3d3f-43b2-af24-c2800b4ddbf0/
END:VEVENT
END:VCALENDAR
