BEGIN:VCALENDAR
VERSION:2.0
PRODID:-//AusschreibungsRadar//Timeline//DE
CALSCALE:GREGORIAN
METHOD:PUBLISH
X-WR-CALNAME:Projekt BImA, BPol Bundespolizei Potsdam, Comp. Haus 8, 13, 14,  ele
X-WR-TIMEZONE:Europe/Berlin
BEGIN:VEVENT
UID:9c42d96d6b552929@ausschreibungsradar.com
DTSTAMP:20260424T090946Z
DTSTART;VALUE=DATE:20251119
DTEND;VALUE=DATE:20251119
SUMMARY:Angebotsfrist — BImA\, BPol Bundespolizei Potsdam\, Comp. Haus 8\, 13\, 14\,  ele
DESCRIPTION:Phase: Ausschreibung | Beschreibung: Angebote werden eingeholt | Link: https://ausschreibungsradar.com/ausschreibung/d32148cd-f0d1-4b47-8889-06cb6e96cfea/
URL:https://ausschreibungsradar.com/ausschreibung/d32148cd-f0d1-4b47-8889-06cb6e96cfea/
END:VEVENT
BEGIN:VEVENT
UID:1ec19dc7588a975b@ausschreibungsradar.com
DTSTAMP:20260424T090946Z
DTSTART;VALUE=DATE:20260121
DTEND;VALUE=DATE:20260121
SUMMARY:Ausschreibung — BImA\, BPol Bundespolizei Potsdam\, Comp. Haus 8\, 13\, 14\,  ele
DESCRIPTION:Phase: Ausschreibung | Beschreibung: Offizielle Ausschreibung mit Bieterfrist. | Link: https://ausschreibungsradar.com/ausschreibung/f541fd2d-f79b-4488-99a5-9516872dd314/
URL:https://ausschreibungsradar.com/ausschreibung/f541fd2d-f79b-4488-99a5-9516872dd314/
END:VEVENT
BEGIN:VEVENT
UID:5af6d6ff64bcaf0c@ausschreibungsradar.com
DTSTAMP:20260424T090946Z
DTSTART;VALUE=DATE:20260121
DTEND;VALUE=DATE:20260121
SUMMARY:Ausschreibung — BImA\, BPol Bundespolizei Potsdam\, Comp. Haus 8\, 13\, 14\,  ele
DESCRIPTION:Phase: Ausschreibung | Beschreibung: Offizielle Ausschreibung mit Bieterfrist. | Link: https://ausschreibungsradar.com/ausschreibung/f1530a39-984c-4ad3-a8e6-4771e87a1417/
URL:https://ausschreibungsradar.com/ausschreibung/f1530a39-984c-4ad3-a8e6-4771e87a1417/
END:VEVENT
BEGIN:VEVENT
UID:69a160fbfb0d2fe7@ausschreibungsradar.com
DTSTAMP:20260424T090946Z
DTSTART;VALUE=DATE:20260123
DTEND;VALUE=DATE:20260123
SUMMARY:Ausschreibung — BImA\, BPol Bundespolizei Potsdam\, Comp. Haus 8\, 13\, 14\,  ele
DESCRIPTION:Phase: Ausschreibung | Beschreibung: Offizielle Ausschreibung mit Bieterfrist. | Link: https://ausschreibungsradar.com/ausschreibung/603e087d-7d27-4a7f-8086-968fdc8292d8/
URL:https://ausschreibungsradar.com/ausschreibung/603e087d-7d27-4a7f-8086-968fdc8292d8/
END:VEVENT
BEGIN:VEVENT
UID:5052d23e31e207a7@ausschreibungsradar.com
DTSTAMP:20260424T090946Z
DTSTART;VALUE=DATE:20260206
DTEND;VALUE=DATE:20260206
SUMMARY:Vergabeergebnis — BImA\, BPol Bundespolizei Potsdam\, Comp. Haus 8\, 13\, 14\,  ele
DESCRIPTION:Phase: Vergabeergebnis | Beschreibung: Auftrag wurde zugeschlagen | Link: https://ausschreibungsradar.com/ausschreibung/9c9159a4-39fc-4a36-bbf6-bf45d618a2d8/
URL:https://ausschreibungsradar.com/ausschreibung/9c9159a4-39fc-4a36-bbf6-bf45d618a2d8/
END:VEVENT
BEGIN:VEVENT
UID:a002ff9fdef6dbf5@ausschreibungsradar.com
DTSTAMP:20260424T090946Z
DTSTART;VALUE=DATE:20260206
DTEND;VALUE=DATE:20260206
SUMMARY:Zuschlag — BImA\, BPol Bundespolizei Potsdam\, Comp. Haus 8\, 13\, 14\,  ele
DESCRIPTION:Phase: Zuschlag | Beschreibung: Vergabeergebnis — Auftrag wurde erteilt oder Verfahren beendet. | Link: https://ausschreibungsradar.com/ausschreibung/ca1fe353-d490-440f-8845-d955d0d7bba0/
URL:https://ausschreibungsradar.com/ausschreibung/ca1fe353-d490-440f-8845-d955d0d7bba0/
END:VEVENT
END:VCALENDAR
