BEGIN:VCALENDAR
VERSION:2.0
PRODID:-//AusschreibungsRadar//Timeline//DE
CALSCALE:GREGORIAN
METHOD:PUBLISH
X-WR-CALNAME:Projekt Zoo Krefeld Orang-Utan Anlage (BA.2) | Tief- und Rohbauarbei
X-WR-TIMEZONE:Europe/Berlin
BEGIN:VEVENT
UID:cd0f6a5d902b09a8@ausschreibungsradar.com
DTSTAMP:20260425T035247Z
DTSTART;VALUE=DATE:20251203
DTEND;VALUE=DATE:20251203
SUMMARY:Ausschreibung — Zoo Krefeld Orang-Utan Anlage (BA.2) | Tief- und Rohbauarbei
DESCRIPTION:Phase: Ausschreibung | Beschreibung: Angebote werden eingeholt | Link: https://ausschreibungsradar.com/ausschreibung/9d100aee-0954-4dc7-9979-dd73952ff389/
URL:https://ausschreibungsradar.com/ausschreibung/9d100aee-0954-4dc7-9979-dd73952ff389/
END:VEVENT
BEGIN:VEVENT
UID:2f77d017af4ef577@ausschreibungsradar.com
DTSTAMP:20260425T035247Z
DTSTART;VALUE=DATE:20260210
DTEND;VALUE=DATE:20260210
SUMMARY:Vergabeergebnis — Zoo Krefeld Orang-Utan Anlage (BA.2) | Tief- und Rohbauarbei
DESCRIPTION:Phase: Vergabeergebnis | Beschreibung: Auftrag wurde zugeschlagen | Link: https://ausschreibungsradar.com/ausschreibung/bcdc74fa-a420-4764-9190-c00ef50f64dd/
URL:https://ausschreibungsradar.com/ausschreibung/bcdc74fa-a420-4764-9190-c00ef50f64dd/
END:VEVENT
END:VCALENDAR
