BEGIN:VCALENDAR
VERSION:2.0
PRODID:-//AusschreibungsRadar//Timeline//DE
CALSCALE:GREGORIAN
METHOD:PUBLISH
X-WR-CALNAME:Projekt Generalsanierung Jugendbildungsstätte Waldmünchen - Leistung
X-WR-TIMEZONE:Europe/Berlin
BEGIN:VEVENT
UID:69b8459a4d8275ff@ausschreibungsradar.com
DTSTAMP:20260424T105557Z
DTSTART;VALUE=DATE:20260225
DTEND;VALUE=DATE:20260225
SUMMARY:Ausschreibung — Generalsanierung Jugendbildungsstätte Waldmünchen - Leistung
DESCRIPTION:Phase: Ausschreibung | Beschreibung: Offizielle Ausschreibung mit Bieterfrist. | Link: https://ausschreibungsradar.com/ausschreibung/9d569511-dde6-4141-aa7d-91aa7f35cfca/
URL:https://ausschreibungsradar.com/ausschreibung/9d569511-dde6-4141-aa7d-91aa7f35cfca/
END:VEVENT
BEGIN:VEVENT
UID:ec145f641d39c350@ausschreibungsradar.com
DTSTAMP:20260424T105557Z
DTSTART;VALUE=DATE:20260225
DTEND;VALUE=DATE:20260225
SUMMARY:Ausschreibung — Generalsanierung Jugendbildungsstätte Waldmünchen - Leistung
DESCRIPTION:Phase: Ausschreibung | Beschreibung: Offizielle Ausschreibung mit Bieterfrist. | Link: https://ausschreibungsradar.com/ausschreibung/a87c5970-e037-4752-a378-5adbb82eed92/
URL:https://ausschreibungsradar.com/ausschreibung/a87c5970-e037-4752-a378-5adbb82eed92/
END:VEVENT
BEGIN:VEVENT
UID:8f4c5c3984533858@ausschreibungsradar.com
DTSTAMP:20260424T105557Z
DTSTART;VALUE=DATE:20260225
DTEND;VALUE=DATE:20260225
SUMMARY:Ausschreibung — Generalsanierung Jugendbildungsstätte Waldmünchen - Leistung
DESCRIPTION:Phase: Ausschreibung | Beschreibung: Offizielle Ausschreibung mit Bieterfrist. | Link: https://ausschreibungsradar.com/ausschreibung/abe8d1fb-2539-4ce1-94d8-167a58851908/
URL:https://ausschreibungsradar.com/ausschreibung/abe8d1fb-2539-4ce1-94d8-167a58851908/
END:VEVENT
BEGIN:VEVENT
UID:4f24af0afa17dd06@ausschreibungsradar.com
DTSTAMP:20260424T105557Z
DTSTART;VALUE=DATE:20260225
DTEND;VALUE=DATE:20260225
SUMMARY:Ausschreibung — Generalsanierung Jugendbildungsstätte Waldmünchen - Leistung
DESCRIPTION:Phase: Ausschreibung | Beschreibung: Offizielle Ausschreibung mit Bieterfrist. | Link: https://ausschreibungsradar.com/ausschreibung/d8945885-206c-4644-abf5-9194921d6478/
URL:https://ausschreibungsradar.com/ausschreibung/d8945885-206c-4644-abf5-9194921d6478/
END:VEVENT
BEGIN:VEVENT
UID:4111e30593e532e7@ausschreibungsradar.com
DTSTAMP:20260424T105557Z
DTSTART;VALUE=DATE:20260225
DTEND;VALUE=DATE:20260225
SUMMARY:Ausschreibung — Generalsanierung Jugendbildungsstätte Waldmünchen - Leistung
DESCRIPTION:Phase: Ausschreibung | Beschreibung: Offizielle Ausschreibung mit Bieterfrist. | Link: https://ausschreibungsradar.com/ausschreibung/f56a59cd-fb98-4b3b-b7b1-45dffc67e957/
URL:https://ausschreibungsradar.com/ausschreibung/f56a59cd-fb98-4b3b-b7b1-45dffc67e957/
END:VEVENT
END:VCALENDAR
