BEGIN:VCALENDAR
VERSION:2.0
PRODID:-//AusschreibungsRadar//Timeline//DE
CALSCALE:GREGORIAN
METHOD:PUBLISH
X-WR-CALNAME:Projekt 202408SF5-6 Schadstofffreimachung Gebäude 5-6
X-WR-TIMEZONE:Europe/Berlin
BEGIN:VEVENT
UID:9d42a0fc80a09edb@ausschreibungsradar.com
DTSTAMP:20260424T124807Z
DTSTART;VALUE=DATE:20240320
DTEND;VALUE=DATE:20240320
SUMMARY:Ausschreibung — 202408SF5-6 Schadstofffreimachung Gebäude 5-6
DESCRIPTION:Phase: Ausschreibung | Beschreibung: Offizielle Ausschreibung mit Bieterfrist. | Link: https://ausschreibungsradar.com/ausschreibung/1fda1ba9-a489-4080-8212-5b58afd4a397/
URL:https://ausschreibungsradar.com/ausschreibung/1fda1ba9-a489-4080-8212-5b58afd4a397/
END:VEVENT
BEGIN:VEVENT
UID:2b7abb94e3a87022@ausschreibungsradar.com
DTSTAMP:20260424T124807Z
DTSTART;VALUE=DATE:20240430
DTEND;VALUE=DATE:20240430
SUMMARY:Angebotsfrist — 202408SF5-6 Schadstofffreimachung Gebäude 5-6
DESCRIPTION:Phase: Ausschreibung | Beschreibung: Angebote werden eingeholt | Link: https://ausschreibungsradar.com/ausschreibung/9e0790d6-c2db-4137-b8c2-16a43aa1b1d9/
URL:https://ausschreibungsradar.com/ausschreibung/9e0790d6-c2db-4137-b8c2-16a43aa1b1d9/
END:VEVENT
BEGIN:VEVENT
UID:664e058eb445a934@ausschreibungsradar.com
DTSTAMP:20260424T124807Z
DTSTART;VALUE=DATE:20240701
DTEND;VALUE=DATE:20240701
SUMMARY:Vergabeergebnis — 202408SF5-6 Schadstofffreimachung Gebäude 5-6
DESCRIPTION:Phase: Vergabeergebnis | Beschreibung: Auftrag wurde zugeschlagen | Link: https://ausschreibungsradar.com/ausschreibung/81fcb832-de36-47ec-b508-60c7170415c4/
URL:https://ausschreibungsradar.com/ausschreibung/81fcb832-de36-47ec-b508-60c7170415c4/
END:VEVENT
END:VCALENDAR
