BEGIN:VCALENDAR
VERSION:2.0
PRODID:-//AusschreibungsRadar//Timeline//DE
CALSCALE:GREGORIAN
METHOD:PUBLISH
X-WR-CALNAME:Projekt Stralsunder Werkstätten Sanierung und Ausbau Werkstatt und B
X-WR-TIMEZONE:Europe/Berlin
BEGIN:VEVENT
UID:c049c2ca7d3d7186@ausschreibungsradar.com
DTSTAMP:20260424T211856Z
DTSTART;VALUE=DATE:20250919
DTEND;VALUE=DATE:20250919
SUMMARY:Zuschlag — Stralsunder Werkstätten Sanierung und Ausbau Werkstatt und B
DESCRIPTION:Phase: Zuschlag | Beschreibung: Vergabeergebnis — Auftrag wurde erteilt oder Verfahren beendet. | Link: https://ausschreibungsradar.com/ausschreibung/738b3b6d-86df-4455-8cd1-13114f9b179d/
URL:https://ausschreibungsradar.com/ausschreibung/738b3b6d-86df-4455-8cd1-13114f9b179d/
END:VEVENT
BEGIN:VEVENT
UID:10de65a846b37890@ausschreibungsradar.com
DTSTAMP:20260424T211856Z
DTSTART;VALUE=DATE:20251028
DTEND;VALUE=DATE:20251028
SUMMARY:Angebotsfrist — Stralsunder Werkstätten Sanierung und Ausbau Werkstatt und B
DESCRIPTION:Phase: Ausschreibung | Beschreibung: Angebote werden eingeholt | Link: https://ausschreibungsradar.com/ausschreibung/9e09589d-0da8-4730-8dee-ad542b523a20/
URL:https://ausschreibungsradar.com/ausschreibung/9e09589d-0da8-4730-8dee-ad542b523a20/
END:VEVENT
BEGIN:VEVENT
UID:c4a7d006356069fe@ausschreibungsradar.com
DTSTAMP:20260424T211856Z
DTSTART;VALUE=DATE:20251129
DTEND;VALUE=DATE:20251129
SUMMARY:Vergabeergebnis — Stralsunder Werkstätten Sanierung und Ausbau Werkstatt und B
DESCRIPTION:Phase: Vergabeergebnis | Beschreibung: Auftrag wurde zugeschlagen | Link: https://ausschreibungsradar.com/ausschreibung/61c92fa6-b41d-4729-b876-80e978c03290/
URL:https://ausschreibungsradar.com/ausschreibung/61c92fa6-b41d-4729-b876-80e978c03290/
END:VEVENT
END:VCALENDAR
