BEGIN:VCALENDAR
VERSION:2.0
PRODID:-//AusschreibungsRadar//Timeline//DE
CALSCALE:GREGORIAN
METHOD:PUBLISH
X-WR-CALNAME:Projekt Sicherheitsdienst in den Flüchtlingsunterkünften des Landkre
X-WR-TIMEZONE:Europe/Berlin
BEGIN:VEVENT
UID:906bd312308aa3c0@ausschreibungsradar.com
DTSTAMP:20260425T213555Z
DTSTART;VALUE=DATE:20240731
DTEND;VALUE=DATE:20240731
SUMMARY:Angebotsfrist — Sicherheitsdienst in den Flüchtlingsunterkünften des Landkre
DESCRIPTION:Phase: Ausschreibung | Beschreibung: Angebote werden eingeholt | Link: https://ausschreibungsradar.com/ausschreibung/00786ba5-76c6-43eb-adf4-19d3fb6f82c0/
URL:https://ausschreibungsradar.com/ausschreibung/00786ba5-76c6-43eb-adf4-19d3fb6f82c0/
END:VEVENT
BEGIN:VEVENT
UID:312092b9141cee86@ausschreibungsradar.com
DTSTAMP:20260425T213555Z
DTSTART;VALUE=DATE:20240902
DTEND;VALUE=DATE:20240902
SUMMARY:Vergabeergebnis — Sicherheitsdienst in den Flüchtlingsunterkünften des Landkre
DESCRIPTION:Phase: Vergabeergebnis | Beschreibung: Auftrag wurde zugeschlagen | Link: https://ausschreibungsradar.com/ausschreibung/9e8c2a2b-f188-40a5-8645-2a8a7ea67402/ | Auftragnehmer: Safe T Service e.K.
URL:https://ausschreibungsradar.com/ausschreibung/9e8c2a2b-f188-40a5-8645-2a8a7ea67402/
END:VEVENT
END:VCALENDAR
