BEGIN:VCALENDAR
VERSION:2.0
PRODID:-//AusschreibungsRadar//Timeline//DE
CALSCALE:GREGORIAN
METHOD:PUBLISH
X-WR-CALNAME:Projekt Steinbergkirche-Erweiterung KiTA-Brandschutz_BEK
X-WR-TIMEZONE:Europe/Berlin
BEGIN:VEVENT
UID:951f92437ac3d466@ausschreibungsradar.com
DTSTAMP:20260426T033247Z
DTSTART;VALUE=DATE:20240403
DTEND;VALUE=DATE:20240403
SUMMARY:Angebotsfrist — Steinbergkirche-Erweiterung KiTA-Brandschutz_BEK
DESCRIPTION:Phase: Ausschreibung | Beschreibung: Angebote werden eingeholt | Link: https://ausschreibungsradar.com/ausschreibung/522bfecf-84d3-4325-a550-2d99f1c5f6e2/
URL:https://ausschreibungsradar.com/ausschreibung/522bfecf-84d3-4325-a550-2d99f1c5f6e2/
END:VEVENT
BEGIN:VEVENT
UID:ea8e20515fbc7ab5@ausschreibungsradar.com
DTSTAMP:20260426T033247Z
DTSTART;VALUE=DATE:20240722
DTEND;VALUE=DATE:20240722
SUMMARY:Vergabeergebnis — Steinbergkirche-Erweiterung KiTA-Brandschutz_BEK
DESCRIPTION:Phase: Vergabeergebnis | Beschreibung: Auftrag wurde zugeschlagen | Link: https://ausschreibungsradar.com/ausschreibung/9eb7628a-8b93-470c-863c-8978e3057d1c/
URL:https://ausschreibungsradar.com/ausschreibung/9eb7628a-8b93-470c-863c-8978e3057d1c/
END:VEVENT
BEGIN:VEVENT
UID:c73c67ac423a82b9@ausschreibungsradar.com
DTSTAMP:20260426T033247Z
DTSTART;VALUE=DATE:20240722
DTEND;VALUE=DATE:20240722
SUMMARY:Zuschlag — Steinbergkirche-Erweiterung KiTA-Brandschutz_BEK
DESCRIPTION:Phase: Zuschlag | Beschreibung: Vergabeergebnis — Auftrag wurde erteilt oder Verfahren beendet. | Link: https://ausschreibungsradar.com/ausschreibung/2dfead53-6f18-42cd-86d9-457d03a082e0/
URL:https://ausschreibungsradar.com/ausschreibung/2dfead53-6f18-42cd-86d9-457d03a082e0/
END:VEVENT
END:VCALENDAR
