BEGIN:VCALENDAR
VERSION:2.0
PRODID:-//AusschreibungsRadar//Timeline//DE
CALSCALE:GREGORIAN
METHOD:PUBLISH
X-WR-CALNAME:Projekt Ersatzneubau Kindertagesstätte mit Tagesgruppe in Wismar Wen
X-WR-TIMEZONE:Europe/Berlin
BEGIN:VEVENT
UID:cf13027a3084ce8d@ausschreibungsradar.com
DTSTAMP:20260424T055205Z
DTSTART;VALUE=DATE:20240510
DTEND;VALUE=DATE:20240510
SUMMARY:Zuschlag — Ersatzneubau Kindertagesstätte mit Tagesgruppe in Wismar Wen
DESCRIPTION:Phase: Zuschlag | Beschreibung: Vergabeergebnis — Auftrag wurde erteilt oder Verfahren beendet. | Link: https://ausschreibungsradar.com/ausschreibung/9f2d27ff-6223-4fb8-a2e9-72762913f142/
URL:https://ausschreibungsradar.com/ausschreibung/9f2d27ff-6223-4fb8-a2e9-72762913f142/
END:VEVENT
BEGIN:VEVENT
UID:b735ecb0a048bba9@ausschreibungsradar.com
DTSTAMP:20260424T055205Z
DTSTART;VALUE=DATE:20240510
DTEND;VALUE=DATE:20240510
SUMMARY:Zuschlag — Ersatzneubau Kindertagesstätte mit Tagesgruppe in Wismar Wen
DESCRIPTION:Phase: Zuschlag | Beschreibung: Vergabeergebnis — Auftrag wurde erteilt oder Verfahren beendet. | Link: https://ausschreibungsradar.com/ausschreibung/fd03ae20-7883-45a2-8d6c-ec25d68a9e97/
URL:https://ausschreibungsradar.com/ausschreibung/fd03ae20-7883-45a2-8d6c-ec25d68a9e97/
END:VEVENT
BEGIN:VEVENT
UID:fad7b1fce3b74086@ausschreibungsradar.com
DTSTAMP:20260424T055205Z
DTSTART;VALUE=DATE:20240510
DTEND;VALUE=DATE:20240510
SUMMARY:Zuschlag — Ersatzneubau Kindertagesstätte mit Tagesgruppe in Wismar Wen
DESCRIPTION:Phase: Zuschlag | Beschreibung: Vergabeergebnis — Auftrag wurde erteilt oder Verfahren beendet. | Link: https://ausschreibungsradar.com/ausschreibung/63dda338-e41d-4e82-8484-180c5dc2833c/
URL:https://ausschreibungsradar.com/ausschreibung/63dda338-e41d-4e82-8484-180c5dc2833c/
END:VEVENT
BEGIN:VEVENT
UID:cf2d02a7795cc870@ausschreibungsradar.com
DTSTAMP:20260424T055205Z
DTSTART;VALUE=DATE:20240510
DTEND;VALUE=DATE:20240510
SUMMARY:Zuschlag — Ersatzneubau Kindertagesstätte mit Tagesgruppe in Wismar Wen
DESCRIPTION:Phase: Zuschlag | Beschreibung: Vergabeergebnis — Auftrag wurde erteilt oder Verfahren beendet. | Link: https://ausschreibungsradar.com/ausschreibung/ebc7b750-42ce-4ebe-8207-f3caee5ee9b7/
URL:https://ausschreibungsradar.com/ausschreibung/ebc7b750-42ce-4ebe-8207-f3caee5ee9b7/
END:VEVENT
BEGIN:VEVENT
UID:815c04014f9db1ea@ausschreibungsradar.com
DTSTAMP:20260424T055205Z
DTSTART;VALUE=DATE:20240510
DTEND;VALUE=DATE:20240510
SUMMARY:Zuschlag — Ersatzneubau Kindertagesstätte mit Tagesgruppe in Wismar Wen
DESCRIPTION:Phase: Zuschlag | Beschreibung: Vergabeergebnis — Auftrag wurde erteilt oder Verfahren beendet. | Link: https://ausschreibungsradar.com/ausschreibung/8b2b6948-2f91-41d5-bd60-56f3d6888a5f/
URL:https://ausschreibungsradar.com/ausschreibung/8b2b6948-2f91-41d5-bd60-56f3d6888a5f/
END:VEVENT
END:VCALENDAR
