BEGIN:VCALENDAR
VERSION:2.0
PRODID:-//AusschreibungsRadar//Timeline//DE
CALSCALE:GREGORIAN
METHOD:PUBLISH
X-WR-CALNAME:Projekt GTL - LV 06 Dachdeckung mit Aluminium 
X-WR-TIMEZONE:Europe/Berlin
BEGIN:VEVENT
UID:78ff8d70e00e4d17@ausschreibungsradar.com
DTSTAMP:20260424T040335Z
DTSTART;VALUE=DATE:20260126
DTEND;VALUE=DATE:20260126
SUMMARY:Angebotsfrist — GTL - LV 06 Dachdeckung mit Aluminium 
DESCRIPTION:Phase: Ausschreibung | Beschreibung: Angebote werden eingeholt | Link: https://ausschreibungsradar.com/ausschreibung/9f2f50ff-6212-40b3-b8e5-3657b65c935d/
URL:https://ausschreibungsradar.com/ausschreibung/9f2f50ff-6212-40b3-b8e5-3657b65c935d/
END:VEVENT
BEGIN:VEVENT
UID:ead43275df6e6920@ausschreibungsradar.com
DTSTAMP:20260424T040335Z
DTSTART;VALUE=DATE:20260309
DTEND;VALUE=DATE:20260309
SUMMARY:Vergabeergebnis — GTL - LV 06 Dachdeckung mit Aluminium 
DESCRIPTION:Phase: Vergabeergebnis | Beschreibung: Auftrag wurde zugeschlagen | Link: https://ausschreibungsradar.com/ausschreibung/c0b1cec9-5fdf-4ad3-83ff-13f724bc6972/
URL:https://ausschreibungsradar.com/ausschreibung/c0b1cec9-5fdf-4ad3-83ff-13f724bc6972/
END:VEVENT
END:VCALENDAR
