BEGIN:VCALENDAR
VERSION:2.0
PRODID:-//AusschreibungsRadar//Timeline//DE
CALSCALE:GREGORIAN
METHOD:PUBLISH
X-WR-CALNAME:Projekt Fliesen- und Betonwerksteinarbeiten
X-WR-TIMEZONE:Europe/Berlin
BEGIN:VEVENT
UID:600435cb649c5b99@ausschreibungsradar.com
DTSTAMP:20260425T135157Z
DTSTART;VALUE=DATE:20240819
DTEND;VALUE=DATE:20240819
SUMMARY:Angebotsfrist — Fliesen- und Betonwerksteinarbeiten
DESCRIPTION:Phase: Ausschreibung | Beschreibung: Angebote werden eingeholt | Link: https://ausschreibungsradar.com/ausschreibung/9f66d070-d39d-4669-a230-91ccfafe44d4/
URL:https://ausschreibungsradar.com/ausschreibung/9f66d070-d39d-4669-a230-91ccfafe44d4/
END:VEVENT
END:VCALENDAR
