BEGIN:VCALENDAR
VERSION:2.0
PRODID:-//AusschreibungsRadar//Timeline//DE
CALSCALE:GREGORIAN
METHOD:PUBLISH
X-WR-CALNAME:Projekt Blocklanddeponie, Oberflächenabdichtung des Bauabschnittes 2
X-WR-TIMEZONE:Europe/Berlin
BEGIN:VEVENT
UID:3d09da845d65c827@ausschreibungsradar.com
DTSTAMP:20260426T021353Z
DTSTART;VALUE=DATE:20250724
DTEND;VALUE=DATE:20250724
SUMMARY:Angebotsfrist — Blocklanddeponie\, Oberflächenabdichtung des Bauabschnittes 2
DESCRIPTION:Phase: Ausschreibung | Beschreibung: Angebote werden eingeholt | Link: https://ausschreibungsradar.com/ausschreibung/a0437273-bbba-4eae-a325-1ed3b85af6b7/
URL:https://ausschreibungsradar.com/ausschreibung/a0437273-bbba-4eae-a325-1ed3b85af6b7/
END:VEVENT
BEGIN:VEVENT
UID:c2244c72d2237f7e@ausschreibungsradar.com
DTSTAMP:20260426T021353Z
DTSTART;VALUE=DATE:20250924
DTEND;VALUE=DATE:20250924
SUMMARY:Vergabeergebnis — Blocklanddeponie\, Oberflächenabdichtung des Bauabschnittes 2
DESCRIPTION:Phase: Vergabeergebnis | Beschreibung: Auftrag wurde zugeschlagen | Link: https://ausschreibungsradar.com/ausschreibung/a63a6256-1db6-4561-9aa0-566bfb7b0222/
URL:https://ausschreibungsradar.com/ausschreibung/a63a6256-1db6-4561-9aa0-566bfb7b0222/
END:VEVENT
END:VCALENDAR
