BEGIN:VCALENDAR
VERSION:2.0
PRODID:-//AusschreibungsRadar//Timeline//DE
CALSCALE:GREGORIAN
METHOD:PUBLISH
X-WR-CALNAME:Projekt Erbringung von Leistungen der Industrie- und Ausstattungspla
X-WR-TIMEZONE:Europe/Berlin
BEGIN:VEVENT
UID:4890247921f7fb91@ausschreibungsradar.com
DTSTAMP:20260424T054805Z
DTSTART;VALUE=DATE:20251030
DTEND;VALUE=DATE:20251030
SUMMARY:Angebotsfrist — Erbringung von Leistungen der Industrie- und Ausstattungspla
DESCRIPTION:Phase: Ausschreibung | Beschreibung: Angebote werden eingeholt | Link: https://ausschreibungsradar.com/ausschreibung/216161cf-34ea-4689-b6e3-42c4b6849a2f/
URL:https://ausschreibungsradar.com/ausschreibung/216161cf-34ea-4689-b6e3-42c4b6849a2f/
END:VEVENT
BEGIN:VEVENT
UID:5f9f9fcd30fe93cc@ausschreibungsradar.com
DTSTAMP:20260424T054805Z
DTSTART;VALUE=DATE:20250901
DTEND;VALUE=DATE:20250901
SUMMARY:Ausschreibung — Erbringung von Leistungen der Industrie- und Ausstattungspla
DESCRIPTION:Phase: Ausschreibung | Beschreibung: Offizielle Ausschreibung mit Bieterfrist. | Link: https://ausschreibungsradar.com/ausschreibung/badaa46a-cdd3-4aa0-b0b4-85ab854f64aa/
URL:https://ausschreibungsradar.com/ausschreibung/badaa46a-cdd3-4aa0-b0b4-85ab854f64aa/
END:VEVENT
BEGIN:VEVENT
UID:cd6881f26470e1fe@ausschreibungsradar.com
DTSTAMP:20260424T054805Z
DTSTART;VALUE=DATE:20250901
DTEND;VALUE=DATE:20250901
SUMMARY:Ausschreibung — Erbringung von Leistungen der Industrie- und Ausstattungspla
DESCRIPTION:Phase: Ausschreibung | Beschreibung: Offizielle Ausschreibung mit Bieterfrist. | Link: https://ausschreibungsradar.com/ausschreibung/8fde8ae8-f2ef-4452-88bc-e05cafda2f4e/
URL:https://ausschreibungsradar.com/ausschreibung/8fde8ae8-f2ef-4452-88bc-e05cafda2f4e/
END:VEVENT
BEGIN:VEVENT
UID:8a4abb5b376122b1@ausschreibungsradar.com
DTSTAMP:20260424T054805Z
DTSTART;VALUE=DATE:20251114
DTEND;VALUE=DATE:20251114
SUMMARY:Ausschreibung — Erbringung von Leistungen der Industrie- und Ausstattungspla
DESCRIPTION:Phase: Ausschreibung | Beschreibung: Offizielle Ausschreibung mit Bieterfrist. | Link: https://ausschreibungsradar.com/ausschreibung/ac78240c-e2b0-44b6-ad9d-395d38304050/
URL:https://ausschreibungsradar.com/ausschreibung/ac78240c-e2b0-44b6-ad9d-395d38304050/
END:VEVENT
BEGIN:VEVENT
UID:d8bd6b7e4d854a14@ausschreibungsradar.com
DTSTAMP:20260424T054805Z
DTSTART;VALUE=DATE:20251203
DTEND;VALUE=DATE:20251203
SUMMARY:Vergabeergebnis — Erbringung von Leistungen der Industrie- und Ausstattungspla
DESCRIPTION:Phase: Vergabeergebnis | Beschreibung: Auftrag wurde zugeschlagen | Link: https://ausschreibungsradar.com/ausschreibung/a0466712-9f2f-49a7-bf96-07b4eee21451/
URL:https://ausschreibungsradar.com/ausschreibung/a0466712-9f2f-49a7-bf96-07b4eee21451/
END:VEVENT
END:VCALENDAR
