BEGIN:VCALENDAR
VERSION:2.0
PRODID:-//AusschreibungsRadar//Timeline//DE
CALSCALE:GREGORIAN
METHOD:PUBLISH
X-WR-CALNAME:Projekt Linienbündel "AST-508" und "AST-511
X-WR-TIMEZONE:Europe/Berlin
BEGIN:VEVENT
UID:e89bfa391a934720@ausschreibungsradar.com
DTSTAMP:20260424T120359Z
DTSTART;VALUE=DATE:20240207
DTEND;VALUE=DATE:20240207
SUMMARY:Vergabeergebnis — Linienbündel "AST-508" und "AST-511
DESCRIPTION:Phase: Vergabeergebnis | Beschreibung: Auftrag wurde zugeschlagen | Link: https://ausschreibungsradar.com/ausschreibung/a0c42a4e-15e3-413e-bb28-31ced7f40afa/
URL:https://ausschreibungsradar.com/ausschreibung/a0c42a4e-15e3-413e-bb28-31ced7f40afa/
END:VEVENT
BEGIN:VEVENT
UID:a480bd14f5bb0e07@ausschreibungsradar.com
DTSTAMP:20260424T120359Z
DTSTART;VALUE=DATE:20240207
DTEND;VALUE=DATE:20240207
SUMMARY:Zuschlag — Linienbündel "AST-508" und "AST-511
DESCRIPTION:Phase: Zuschlag | Beschreibung: Vergabeergebnis — Auftrag wurde erteilt oder Verfahren beendet. | Link: https://ausschreibungsradar.com/ausschreibung/f115ed5a-7bd4-4e3f-923e-30882793bf57/
URL:https://ausschreibungsradar.com/ausschreibung/f115ed5a-7bd4-4e3f-923e-30882793bf57/
END:VEVENT
END:VCALENDAR
