BEGIN:VCALENDAR
VERSION:2.0
PRODID:-//AusschreibungsRadar//Timeline//DE
CALSCALE:GREGORIAN
METHOD:PUBLISH
X-WR-CALNAME:Projekt Ludwig-Maximilians-Universität München
Sicherungsdienstleist
X-WR-TIMEZONE:Europe/Berlin
BEGIN:VEVENT
UID:b677aa7c3a0b018f@ausschreibungsradar.com
DTSTAMP:20260425T173806Z
DTSTART;VALUE=DATE:20240226
DTEND;VALUE=DATE:20240226
SUMMARY:Ausschreibung — Ludwig-Maximilians-Universität München\nSicherungsdienstleist
DESCRIPTION:Phase: Ausschreibung | Beschreibung: Angebote werden eingeholt | Link: https://ausschreibungsradar.com/ausschreibung/a0d3e3d5-e872-46e5-b417-0b32d807b260/ | Geschätzter Wert: 3565747 €
URL:https://ausschreibungsradar.com/ausschreibung/a0d3e3d5-e872-46e5-b417-0b32d807b260/
END:VEVENT
BEGIN:VEVENT
UID:4f2083c7d91c4ef9@ausschreibungsradar.com
DTSTAMP:20260425T173806Z
DTSTART;VALUE=DATE:20240226
DTEND;VALUE=DATE:20240226
SUMMARY:Ausschreibung — Ludwig-Maximilians-Universität München\nSicherungsdienstleist
DESCRIPTION:Phase: Ausschreibung | Beschreibung: Offizielle Ausschreibung mit Bieterfrist. | Link: https://ausschreibungsradar.com/ausschreibung/ba80cee0-9157-410f-b22b-493bfcf45ec7/
URL:https://ausschreibungsradar.com/ausschreibung/ba80cee0-9157-410f-b22b-493bfcf45ec7/
END:VEVENT
BEGIN:VEVENT
UID:51fcb5a9f45bfb14@ausschreibungsradar.com
DTSTAMP:20260425T173806Z
DTSTART;VALUE=DATE:20240313
DTEND;VALUE=DATE:20240313
SUMMARY:Zuschlag — Ludwig-Maximilians-Universität München\nSicherungsdienstleist
DESCRIPTION:Phase: Zuschlag | Beschreibung: Vergabeergebnis — Auftrag wurde erteilt oder Verfahren beendet. | Link: https://ausschreibungsradar.com/ausschreibung/0179fb5e-cb58-489f-8e1e-f2650e2ccdb3/
URL:https://ausschreibungsradar.com/ausschreibung/0179fb5e-cb58-489f-8e1e-f2650e2ccdb3/
END:VEVENT
BEGIN:VEVENT
UID:176e15bf6d74445b@ausschreibungsradar.com
DTSTAMP:20260425T173806Z
DTSTART;VALUE=DATE:20240627
DTEND;VALUE=DATE:20240627
SUMMARY:Vergabeergebnis — Ludwig-Maximilians-Universität München\nSicherungsdienstleist
DESCRIPTION:Phase: Vergabeergebnis | Beschreibung: Auftrag wurde zugeschlagen | Link: https://ausschreibungsradar.com/ausschreibung/16be004d-13d7-4e0d-b29d-bb4f297bea99/ | Geschätzter Wert: 3565747 €
URL:https://ausschreibungsradar.com/ausschreibung/16be004d-13d7-4e0d-b29d-bb4f297bea99/
END:VEVENT
END:VCALENDAR
