BEGIN:VCALENDAR
VERSION:2.0
PRODID:-//AusschreibungsRadar//Timeline//DE
CALSCALE:GREGORIAN
METHOD:PUBLISH
X-WR-CALNAME:Projekt Lüftung
X-WR-TIMEZONE:Europe/Berlin
BEGIN:VEVENT
UID:d3412fd816470051@ausschreibungsradar.com
DTSTAMP:20260424T001003Z
DTSTART;VALUE=DATE:20240617
DTEND;VALUE=DATE:20240617
SUMMARY:Angebotsfrist — Lüftung
DESCRIPTION:Phase: Ausschreibung | Beschreibung: Angebote werden eingeholt | Link: https://ausschreibungsradar.com/ausschreibung/df9c6c24-f60c-4ca3-bd4e-db7b530d7937/
URL:https://ausschreibungsradar.com/ausschreibung/df9c6c24-f60c-4ca3-bd4e-db7b530d7937/
END:VEVENT
BEGIN:VEVENT
UID:9794f2041f2112dc@ausschreibungsradar.com
DTSTAMP:20260424T001003Z
DTSTART;VALUE=DATE:20250206
DTEND;VALUE=DATE:20250206
SUMMARY:Vergabeergebnis — Lüftung
DESCRIPTION:Phase: Vergabeergebnis | Beschreibung: Auftrag wurde zugeschlagen | Link: https://ausschreibungsradar.com/ausschreibung/a0e39a67-a97c-477f-9bb7-4e6a91e4646a/
URL:https://ausschreibungsradar.com/ausschreibung/a0e39a67-a97c-477f-9bb7-4e6a91e4646a/
END:VEVENT
END:VCALENDAR
