BEGIN:VCALENDAR
VERSION:2.0
PRODID:-//AusschreibungsRadar//Timeline//DE
CALSCALE:GREGORIAN
METHOD:PUBLISH
X-WR-CALNAME:Projekt BV Burg - Balkonanlagen
X-WR-TIMEZONE:Europe/Berlin
BEGIN:VEVENT
UID:35721f1801f966bd@ausschreibungsradar.com
DTSTAMP:20260424T192221Z
DTSTART;VALUE=DATE:20250901
DTEND;VALUE=DATE:20250901
SUMMARY:Angebotsfrist — BV Burg - Balkonanlagen
DESCRIPTION:Phase: Ausschreibung | Beschreibung: Angebote werden eingeholt | Link: https://ausschreibungsradar.com/ausschreibung/a0f4ed46-ef1c-4ebd-ba38-dfb00473eff1/
URL:https://ausschreibungsradar.com/ausschreibung/a0f4ed46-ef1c-4ebd-ba38-dfb00473eff1/
END:VEVENT
END:VCALENDAR
