BEGIN:VCALENDAR
VERSION:2.0
PRODID:-//AusschreibungsRadar//Timeline//DE
CALSCALE:GREGORIAN
METHOD:PUBLISH
X-WR-CALNAME:Projekt Neubau Feuerwehrgerätehaus in der Stadt Kusel; hier: Rohbau
X-WR-TIMEZONE:Europe/Berlin
BEGIN:VEVENT
UID:a95349ea95871893@ausschreibungsradar.com
DTSTAMP:20260424T062859Z
DTSTART;VALUE=DATE:20250416
DTEND;VALUE=DATE:20250416
SUMMARY:Angebotsfrist — Neubau Feuerwehrgerätehaus in der Stadt Kusel\; hier: Rohbau
DESCRIPTION:Phase: Ausschreibung | Beschreibung: Angebote werden eingeholt | Link: https://ausschreibungsradar.com/ausschreibung/a1a9f690-3a68-4052-b24d-3e97d770aaba/
URL:https://ausschreibungsradar.com/ausschreibung/a1a9f690-3a68-4052-b24d-3e97d770aaba/
END:VEVENT
END:VCALENDAR
