BEGIN:VCALENDAR
VERSION:2.0
PRODID:-//AusschreibungsRadar//Timeline//DE
CALSCALE:GREGORIAN
METHOD:PUBLISH
X-WR-CALNAME:Projekt Holzernte Stadtwald Heilbad Heiligenstadt
X-WR-TIMEZONE:Europe/Berlin
BEGIN:VEVENT
UID:578143e105880bcb@ausschreibungsradar.com
DTSTAMP:20260425T190007Z
DTSTART;VALUE=DATE:20250327
DTEND;VALUE=DATE:20250327
SUMMARY:Angebotsfrist — Holzernte Stadtwald Heilbad Heiligenstadt
DESCRIPTION:Phase: Ausschreibung | Beschreibung: Angebote werden eingeholt | Link: https://ausschreibungsradar.com/ausschreibung/a1eee997-b453-48d7-9a8d-94ecb3310bd7/
URL:https://ausschreibungsradar.com/ausschreibung/a1eee997-b453-48d7-9a8d-94ecb3310bd7/
END:VEVENT
BEGIN:VEVENT
UID:0a371f00b0c04c9f@ausschreibungsradar.com
DTSTAMP:20260425T190007Z
DTSTART;VALUE=DATE:20250521
DTEND;VALUE=DATE:20250521
SUMMARY:Vergabeergebnis — Holzernte Stadtwald Heilbad Heiligenstadt
DESCRIPTION:Phase: Vergabeergebnis | Beschreibung: Auftrag wurde zugeschlagen | Link: https://ausschreibungsradar.com/ausschreibung/fdb5fbf5-edcc-4f09-97b9-44707da9af56/
URL:https://ausschreibungsradar.com/ausschreibung/fdb5fbf5-edcc-4f09-97b9-44707da9af56/
END:VEVENT
END:VCALENDAR
