BEGIN:VCALENDAR
VERSION:2.0
PRODID:-//AusschreibungsRadar//Timeline//DE
CALSCALE:GREGORIAN
METHOD:PUBLISH
X-WR-CALNAME:Projekt ZF: Planungsleistungen für Freianlagen
X-WR-TIMEZONE:Europe/Berlin
BEGIN:VEVENT
UID:b401730eaffcbfa3@ausschreibungsradar.com
DTSTAMP:20260425T145011Z
DTSTART;VALUE=DATE:20241108
DTEND;VALUE=DATE:20241108
SUMMARY:Ausschreibung — ZF: Planungsleistungen für Freianlagen
DESCRIPTION:Phase: Ausschreibung | Beschreibung: Angebote werden eingeholt | Link: https://ausschreibungsradar.com/ausschreibung/47eb7df5-3a1f-43f9-a138-f8ed75db7b4c/
URL:https://ausschreibungsradar.com/ausschreibung/47eb7df5-3a1f-43f9-a138-f8ed75db7b4c/
END:VEVENT
BEGIN:VEVENT
UID:6100a30323e217c8@ausschreibungsradar.com
DTSTAMP:20260425T145011Z
DTSTART;VALUE=DATE:20250422
DTEND;VALUE=DATE:20250422
SUMMARY:Vergabeergebnis — ZF: Planungsleistungen für Freianlagen
DESCRIPTION:Phase: Vergabeergebnis | Beschreibung: Auftrag wurde zugeschlagen | Link: https://ausschreibungsradar.com/ausschreibung/a2168fa5-7857-48cd-ad90-d3ec6c89c20b/
URL:https://ausschreibungsradar.com/ausschreibung/a2168fa5-7857-48cd-ad90-d3ec6c89c20b/
END:VEVENT
END:VCALENDAR
