BEGIN:VCALENDAR
VERSION:2.0
PRODID:-//AusschreibungsRadar//Timeline//DE
CALSCALE:GREGORIAN
METHOD:PUBLISH
X-WR-CALNAME:Projekt Edelstahlbecken Warmwasserfreibad Buschhütten
X-WR-TIMEZONE:Europe/Berlin
BEGIN:VEVENT
UID:06354b5848c5aa7d@ausschreibungsradar.com
DTSTAMP:20260424T202039Z
DTSTART;VALUE=DATE:20250701
DTEND;VALUE=DATE:20250701
SUMMARY:Angebotsfrist — Edelstahlbecken Warmwasserfreibad Buschhütten
DESCRIPTION:Phase: Ausschreibung | Beschreibung: Angebote werden eingeholt | Link: https://ausschreibungsradar.com/ausschreibung/a298ed2c-32b1-4ec1-963d-1495fbed193a/
URL:https://ausschreibungsradar.com/ausschreibung/a298ed2c-32b1-4ec1-963d-1495fbed193a/
END:VEVENT
BEGIN:VEVENT
UID:18bcdcd76ec4e75f@ausschreibungsradar.com
DTSTAMP:20260424T202039Z
DTSTART;VALUE=DATE:20250929
DTEND;VALUE=DATE:20250929
SUMMARY:Vergabeergebnis — Edelstahlbecken Warmwasserfreibad Buschhütten
DESCRIPTION:Phase: Vergabeergebnis | Beschreibung: Auftrag wurde zugeschlagen | Link: https://ausschreibungsradar.com/ausschreibung/fde7bac2-97fc-4891-9f80-5765d341588c/ | Auftragnehmer: Berndorf Bäderbau Deutsch
URL:https://ausschreibungsradar.com/ausschreibung/fde7bac2-97fc-4891-9f80-5765d341588c/
END:VEVENT
END:VCALENDAR
