BEGIN:VCALENDAR
VERSION:2.0
PRODID:-//AusschreibungsRadar//Timeline//DE
CALSCALE:GREGORIAN
METHOD:PUBLISH
X-WR-CALNAME:Projekt Papier, Karton, Etiketten, Briefumschläge
X-WR-TIMEZONE:Europe/Berlin
BEGIN:VEVENT
UID:e9736e89370089ad@ausschreibungsradar.com
DTSTAMP:20260424T062631Z
DTSTART;VALUE=DATE:20240212
DTEND;VALUE=DATE:20240212
SUMMARY:Angebotsfrist — Papier\, Karton\, Etiketten\, Briefumschläge
DESCRIPTION:Phase: Ausschreibung | Beschreibung: Angebote werden eingeholt | Link: https://ausschreibungsradar.com/ausschreibung/a2e3c741-77a1-4664-80fb-c2d5ac7ffc66/ | Geschätzter Wert: 3000000 €
URL:https://ausschreibungsradar.com/ausschreibung/a2e3c741-77a1-4664-80fb-c2d5ac7ffc66/
END:VEVENT
END:VCALENDAR
