BEGIN:VCALENDAR
VERSION:2.0
PRODID:-//AusschreibungsRadar//Timeline//DE
CALSCALE:GREGORIAN
METHOD:PUBLISH
X-WR-CALNAME:Projekt Pinneberg-Drosteipark-Planung_BEK
X-WR-TIMEZONE:Europe/Berlin
BEGIN:VEVENT
UID:3b74029a67c0d5a6@ausschreibungsradar.com
DTSTAMP:20260424T010853Z
DTSTART;VALUE=DATE:20250807
DTEND;VALUE=DATE:20250807
SUMMARY:Ausschreibung — Pinneberg-Drosteipark-Planung_BEK
DESCRIPTION:Phase: Ausschreibung | Beschreibung: Angebote werden eingeholt | Link: https://ausschreibungsradar.com/ausschreibung/13c6800d-49de-4b14-aeda-435de49d514f/
URL:https://ausschreibungsradar.com/ausschreibung/13c6800d-49de-4b14-aeda-435de49d514f/
END:VEVENT
BEGIN:VEVENT
UID:4d779945fa876c37@ausschreibungsradar.com
DTSTAMP:20260424T010853Z
DTSTART;VALUE=DATE:20250807
DTEND;VALUE=DATE:20250807
SUMMARY:Ausschreibung — Pinneberg-Drosteipark-Planung_BEK
DESCRIPTION:Phase: Ausschreibung | Beschreibung: Offizielle Ausschreibung mit Bieterfrist. | Link: https://ausschreibungsradar.com/ausschreibung/d76e76ce-de20-43af-802c-ebb0dde3a7f7/
URL:https://ausschreibungsradar.com/ausschreibung/d76e76ce-de20-43af-802c-ebb0dde3a7f7/
END:VEVENT
BEGIN:VEVENT
UID:411fca391761de52@ausschreibungsradar.com
DTSTAMP:20260424T010853Z
DTSTART;VALUE=DATE:20260203
DTEND;VALUE=DATE:20260203
SUMMARY:Vergabeergebnis — Pinneberg-Drosteipark-Planung_BEK
DESCRIPTION:Phase: Vergabeergebnis | Beschreibung: Auftrag wurde zugeschlagen | Link: https://ausschreibungsradar.com/ausschreibung/a2ed9b3a-129a-49de-b7fc-5fe81de22cad/
URL:https://ausschreibungsradar.com/ausschreibung/a2ed9b3a-129a-49de-b7fc-5fe81de22cad/
END:VEVENT
END:VCALENDAR
