BEGIN:VCALENDAR
VERSION:2.0
PRODID:-//AusschreibungsRadar//Timeline//DE
CALSCALE:GREGORIAN
METHOD:PUBLISH
X-WR-CALNAME:Projekt LV01 Tiefbau- und Pflasterarbeiten
X-WR-TIMEZONE:Europe/Berlin
BEGIN:VEVENT
UID:bcfd52537483660f@ausschreibungsradar.com
DTSTAMP:20260424T105045Z
DTSTART;VALUE=DATE:20260407
DTEND;VALUE=DATE:20260407
SUMMARY:Angebotsfrist — LV01 Tiefbau- und Pflasterarbeiten
DESCRIPTION:Phase: Ausschreibung | Beschreibung: Angebote werden eingeholt | Link: https://ausschreibungsradar.com/ausschreibung/a33826f2-ea1e-47e2-be31-731f652ce469/
URL:https://ausschreibungsradar.com/ausschreibung/a33826f2-ea1e-47e2-be31-731f652ce469/
END:VEVENT
END:VCALENDAR
