BEGIN:VCALENDAR
VERSION:2.0
PRODID:-//AusschreibungsRadar//Timeline//DE
CALSCALE:GREGORIAN
METHOD:PUBLISH
X-WR-CALNAME:Projekt Neubau Schwimmhalle Alzey | TGA
X-WR-TIMEZONE:Europe/Berlin
BEGIN:VEVENT
UID:8d8ee43eb71d34ee@ausschreibungsradar.com
DTSTAMP:20260426T020050Z
DTSTART;VALUE=DATE:20250213
DTEND;VALUE=DATE:20250213
SUMMARY:Ausschreibung — Neubau Schwimmhalle Alzey | TGA
DESCRIPTION:Phase: Ausschreibung | Beschreibung: Angebote werden eingeholt | Link: https://ausschreibungsradar.com/ausschreibung/a3ae0361-a829-465b-a49f-8a3785dea309/
URL:https://ausschreibungsradar.com/ausschreibung/a3ae0361-a829-465b-a49f-8a3785dea309/
END:VEVENT
BEGIN:VEVENT
UID:c7405ecfcacfc1d4@ausschreibungsradar.com
DTSTAMP:20260426T020050Z
DTSTART;VALUE=DATE:20250213
DTEND;VALUE=DATE:20250213
SUMMARY:Ausschreibung — Neubau Schwimmhalle Alzey | TGA
DESCRIPTION:Phase: Ausschreibung | Beschreibung: Offizielle Ausschreibung mit Bieterfrist. | Link: https://ausschreibungsradar.com/ausschreibung/fb4421e7-5184-41cb-8a60-069af7dc3f36/
URL:https://ausschreibungsradar.com/ausschreibung/fb4421e7-5184-41cb-8a60-069af7dc3f36/
END:VEVENT
BEGIN:VEVENT
UID:a80c95a668655c44@ausschreibungsradar.com
DTSTAMP:20260426T020050Z
DTSTART;VALUE=DATE:20250731
DTEND;VALUE=DATE:20250731
SUMMARY:Vergabeergebnis — Neubau Schwimmhalle Alzey | TGA
DESCRIPTION:Phase: Vergabeergebnis | Beschreibung: Verfahren noch offen | Link: https://ausschreibungsradar.com/ausschreibung/12ffcdd1-1371-41bd-a322-60e6cbefd914/
URL:https://ausschreibungsradar.com/ausschreibung/12ffcdd1-1371-41bd-a322-60e6cbefd914/
END:VEVENT
END:VCALENDAR
