BEGIN:VCALENDAR
VERSION:2.0
PRODID:-//AusschreibungsRadar//Timeline//DE
CALSCALE:GREGORIAN
METHOD:PUBLISH
X-WR-CALNAME:Projekt Neubau GS Westercelle-Schließanlage
X-WR-TIMEZONE:Europe/Berlin
BEGIN:VEVENT
UID:64e436c78c7d4d95@ausschreibungsradar.com
DTSTAMP:20260426T000723Z
DTSTART;VALUE=DATE:20240806
DTEND;VALUE=DATE:20240806
SUMMARY:Angebotsfrist — Neubau GS Westercelle-Schließanlage
DESCRIPTION:Phase: Ausschreibung | Beschreibung: Angebote werden eingeholt | Link: https://ausschreibungsradar.com/ausschreibung/a3fe506c-aa4d-4199-8308-5ba47f26125f/
URL:https://ausschreibungsradar.com/ausschreibung/a3fe506c-aa4d-4199-8308-5ba47f26125f/
END:VEVENT
BEGIN:VEVENT
UID:bd7a307bbecf5602@ausschreibungsradar.com
DTSTAMP:20260426T000723Z
DTSTART;VALUE=DATE:20240708
DTEND;VALUE=DATE:20240708
SUMMARY:Ausschreibung — Neubau GS Westercelle-Schließanlage
DESCRIPTION:Phase: Ausschreibung | Beschreibung: Offizielle Ausschreibung mit Bieterfrist. | Link: https://ausschreibungsradar.com/ausschreibung/ted-406970-2024/
URL:https://ausschreibungsradar.com/ausschreibung/ted-406970-2024/
END:VEVENT
BEGIN:VEVENT
UID:e9b8de223593060c@ausschreibungsradar.com
DTSTAMP:20260426T000723Z
DTSTART;VALUE=DATE:20240904
DTEND;VALUE=DATE:20240904
SUMMARY:Vergabeergebnis — Neubau GS Westercelle-Schließanlage
DESCRIPTION:Phase: Vergabeergebnis | Beschreibung: Auftrag wurde zugeschlagen | Link: https://ausschreibungsradar.com/ausschreibung/411cedc0-6250-4adf-bd1d-94aaaf65072c/ | Auftragnehmer: SMAGE GmbH | Geschätzter 
URL:https://ausschreibungsradar.com/ausschreibung/411cedc0-6250-4adf-bd1d-94aaaf65072c/
END:VEVENT
END:VCALENDAR
