BEGIN:VCALENDAR
VERSION:2.0
PRODID:-//AusschreibungsRadar//Timeline//DE
CALSCALE:GREGORIAN
METHOD:PUBLISH
X-WR-CALNAME:Projekt HTK - Beschaffung eines universellen Durchleuchtungsarbeitsp
X-WR-TIMEZONE:Europe/Berlin
BEGIN:VEVENT
UID:7ae6043e3e46a869@ausschreibungsradar.com
DTSTAMP:20260425T194155Z
DTSTART;VALUE=DATE:20240913
DTEND;VALUE=DATE:20240913
SUMMARY:Angebotsfrist — HTK - Beschaffung eines universellen Durchleuchtungsarbeitsp
DESCRIPTION:Phase: Ausschreibung | Beschreibung: Angebote werden eingeholt | Link: https://ausschreibungsradar.com/ausschreibung/a4001282-4db5-49b7-bf56-8be6d400649b/
URL:https://ausschreibungsradar.com/ausschreibung/a4001282-4db5-49b7-bf56-8be6d400649b/
END:VEVENT
BEGIN:VEVENT
UID:ffbc0d9f7c6495c2@ausschreibungsradar.com
DTSTAMP:20260425T194155Z
DTSTART;VALUE=DATE:20240805
DTEND;VALUE=DATE:20240805
SUMMARY:Ausschreibung — HTK - Beschaffung eines universellen Durchleuchtungsarbeitsp
DESCRIPTION:Phase: Ausschreibung | Beschreibung: Offizielle Ausschreibung mit Bieterfrist. | Link: https://ausschreibungsradar.com/ausschreibung/b409b080-40df-4178-b1bc-b1ef096817ff/
URL:https://ausschreibungsradar.com/ausschreibung/b409b080-40df-4178-b1bc-b1ef096817ff/
END:VEVENT
BEGIN:VEVENT
UID:19c5eed2262eca49@ausschreibungsradar.com
DTSTAMP:20260425T194155Z
DTSTART;VALUE=DATE:20240829
DTEND;VALUE=DATE:20240829
SUMMARY:Ausschreibung — HTK - Beschaffung eines universellen Durchleuchtungsarbeitsp
DESCRIPTION:Phase: Ausschreibung | Beschreibung: Offizielle Ausschreibung mit Bieterfrist. | Link: https://ausschreibungsradar.com/ausschreibung/ted-518013-2024/
URL:https://ausschreibungsradar.com/ausschreibung/ted-518013-2024/
END:VEVENT
END:VCALENDAR
