BEGIN:VCALENDAR
VERSION:2.0
PRODID:-//AusschreibungsRadar//Timeline//DE
CALSCALE:GREGORIAN
METHOD:PUBLISH
X-WR-CALNAME:Projekt Neubau Seniorenwohnheim Pliening - Parkett- und Bodenbelagsa
X-WR-TIMEZONE:Europe/Berlin
BEGIN:VEVENT
UID:67614ae138b5d5ca@ausschreibungsradar.com
DTSTAMP:20260425T115122Z
DTSTART;VALUE=DATE:20240924
DTEND;VALUE=DATE:20240924
SUMMARY:Ausschreibung — Neubau Seniorenwohnheim Pliening - Parkett- und Bodenbelagsa
DESCRIPTION:Phase: Ausschreibung | Beschreibung: Offizielle Ausschreibung mit Bieterfrist. | Link: https://ausschreibungsradar.com/ausschreibung/6c7382bc-aba5-45d2-a958-95db8faf5ce9/
URL:https://ausschreibungsradar.com/ausschreibung/6c7382bc-aba5-45d2-a958-95db8faf5ce9/
END:VEVENT
BEGIN:VEVENT
UID:a4da97090dbb8d16@ausschreibungsradar.com
DTSTAMP:20260425T115122Z
DTSTART;VALUE=DATE:20241111
DTEND;VALUE=DATE:20241111
SUMMARY:Angebotsfrist — Neubau Seniorenwohnheim Pliening - Parkett- und Bodenbelagsa
DESCRIPTION:Phase: Ausschreibung | Beschreibung: Angebote werden eingeholt | Link: https://ausschreibungsradar.com/ausschreibung/a40a2703-c8ad-4d29-96e9-ab1577a8537a/
URL:https://ausschreibungsradar.com/ausschreibung/a40a2703-c8ad-4d29-96e9-ab1577a8537a/
END:VEVENT
BEGIN:VEVENT
UID:e6110d50ae4a1838@ausschreibungsradar.com
DTSTAMP:20260425T115122Z
DTSTART;VALUE=DATE:20241009
DTEND;VALUE=DATE:20241009
SUMMARY:Zuschlag — Neubau Seniorenwohnheim Pliening - Parkett- und Bodenbelagsa
DESCRIPTION:Phase: Zuschlag | Beschreibung: Vergabeergebnis — Auftrag wurde erteilt oder Verfahren beendet. | Link: https://ausschreibungsradar.com/ausschreibung/d22bb429-eb07-45a0-92c5-dc5194442520/
URL:https://ausschreibungsradar.com/ausschreibung/d22bb429-eb07-45a0-92c5-dc5194442520/
END:VEVENT
BEGIN:VEVENT
UID:8fcad0df9a1654ae@ausschreibungsradar.com
DTSTAMP:20260425T115122Z
DTSTART;VALUE=DATE:20250112
DTEND;VALUE=DATE:20250112
SUMMARY:Vergabeergebnis — Neubau Seniorenwohnheim Pliening - Parkett- und Bodenbelagsa
DESCRIPTION:Phase: Vergabeergebnis | Beschreibung: Auftrag wurde zugeschlagen | Link: https://ausschreibungsradar.com/ausschreibung/fe6a5870-4631-40f9-83c0-a838d9f11736/ | Auftragnehmer: Brandl Innenausbau GmbH
URL:https://ausschreibungsradar.com/ausschreibung/fe6a5870-4631-40f9-83c0-a838d9f11736/
END:VEVENT
END:VCALENDAR
