BEGIN:VCALENDAR
VERSION:2.0
PRODID:-//AusschreibungsRadar//Timeline//DE
CALSCALE:GREGORIAN
METHOD:PUBLISH
X-WR-CALNAME:Projekt Kulturscheune Beendorf – Innenausbau, Planungsleistungen LPH
X-WR-TIMEZONE:Europe/Berlin
BEGIN:VEVENT
UID:c09bf26baddd0437@ausschreibungsradar.com
DTSTAMP:20260425T194208Z
DTSTART;VALUE=DATE:20251028
DTEND;VALUE=DATE:20251028
SUMMARY:Angebotsfrist — Kulturscheune Beendorf – Innenausbau\, Planungsleistungen LPH
DESCRIPTION:Phase: Ausschreibung | Beschreibung: Angebote werden eingeholt | Link: https://ausschreibungsradar.com/ausschreibung/a45a6e87-ec38-40a0-b105-4d6b815b9a92/ | Geschätzter Wert: 211000 €
URL:https://ausschreibungsradar.com/ausschreibung/a45a6e87-ec38-40a0-b105-4d6b815b9a92/
END:VEVENT
BEGIN:VEVENT
UID:b3787899a3f10cc5@ausschreibungsradar.com
DTSTAMP:20260425T194208Z
DTSTART;VALUE=DATE:20251218
DTEND;VALUE=DATE:20251218
SUMMARY:Vergabeergebnis — Kulturscheune Beendorf – Innenausbau\, Planungsleistungen LPH
DESCRIPTION:Phase: Vergabeergebnis | Beschreibung: Auftrag wurde zugeschlagen | Link: https://ausschreibungsradar.com/ausschreibung/08d57f6d-c391-4cfa-bdc1-fb23a0cf6ce3/ | Auftragnehmer: Planquadrat Klug Architek
URL:https://ausschreibungsradar.com/ausschreibung/08d57f6d-c391-4cfa-bdc1-fb23a0cf6ce3/
END:VEVENT
END:VCALENDAR
