BEGIN:VCALENDAR
VERSION:2.0
PRODID:-//AusschreibungsRadar//Timeline//DE
CALSCALE:GREGORIAN
METHOD:PUBLISH
X-WR-CALNAME:Projekt Neubau Grundschule Conweiler - Gemeinde Straubenhardt - Plan
X-WR-TIMEZONE:Europe/Berlin
BEGIN:VEVENT
UID:f7b354e94286c35f@ausschreibungsradar.com
DTSTAMP:20260425T183218Z
DTSTART;VALUE=DATE:20250226
DTEND;VALUE=DATE:20250226
SUMMARY:Ausschreibung — Neubau Grundschule Conweiler - Gemeinde Straubenhardt - Plan
DESCRIPTION:Phase: Ausschreibung | Beschreibung: Angebote werden eingeholt | Link: https://ausschreibungsradar.com/ausschreibung/a4608dc7-d11f-4f4a-b4ab-f5f7171e55f7/
URL:https://ausschreibungsradar.com/ausschreibung/a4608dc7-d11f-4f4a-b4ab-f5f7171e55f7/
END:VEVENT
BEGIN:VEVENT
UID:bc60f423833f3e59@ausschreibungsradar.com
DTSTAMP:20260425T183218Z
DTSTART;VALUE=DATE:20250804
DTEND;VALUE=DATE:20250804
SUMMARY:Vergabeergebnis — Neubau Grundschule Conweiler - Gemeinde Straubenhardt - Plan
DESCRIPTION:Phase: Vergabeergebnis | Beschreibung: Auftrag wurde zugeschlagen | Link: https://ausschreibungsradar.com/ausschreibung/3377aebf-0f66-449e-bdd5-6c75b6697760/
URL:https://ausschreibungsradar.com/ausschreibung/3377aebf-0f66-449e-bdd5-6c75b6697760/
END:VEVENT
END:VCALENDAR
