BEGIN:VCALENDAR
VERSION:2.0
PRODID:-//AusschreibungsRadar//Timeline//DE
CALSCALE:GREGORIAN
METHOD:PUBLISH
X-WR-CALNAME:Projekt Erweiterung und Sanierung Feuerwehrhaus Gomaringen - Tiefbau
X-WR-TIMEZONE:Europe/Berlin
BEGIN:VEVENT
UID:063b60afd753f8be@ausschreibungsradar.com
DTSTAMP:20260425T190220Z
DTSTART;VALUE=DATE:20250704
DTEND;VALUE=DATE:20250704
SUMMARY:Angebotsfrist — Erweiterung und Sanierung Feuerwehrhaus Gomaringen - Tiefbau
DESCRIPTION:Phase: Ausschreibung | Beschreibung: Angebote werden eingeholt | Link: https://ausschreibungsradar.com/ausschreibung/a643c27f-b08d-43af-b583-751af6473e61/
URL:https://ausschreibungsradar.com/ausschreibung/a643c27f-b08d-43af-b583-751af6473e61/
END:VEVENT
BEGIN:VEVENT
UID:da45599d5fd9698c@ausschreibungsradar.com
DTSTAMP:20260425T190220Z
DTSTART;VALUE=DATE:20250811
DTEND;VALUE=DATE:20250811
SUMMARY:Vergabeergebnis — Erweiterung und Sanierung Feuerwehrhaus Gomaringen - Tiefbau
DESCRIPTION:Phase: Vergabeergebnis | Beschreibung: Auftrag wurde zugeschlagen | Link: https://ausschreibungsradar.com/ausschreibung/644219d4-67d8-4445-8e62-b45c9518f0fa/
URL:https://ausschreibungsradar.com/ausschreibung/644219d4-67d8-4445-8e62-b45c9518f0fa/
END:VEVENT
END:VCALENDAR
