BEGIN:VCALENDAR
VERSION:2.0
PRODID:-//AusschreibungsRadar//Timeline//DE
CALSCALE:GREGORIAN
METHOD:PUBLISH
X-WR-CALNAME:Projekt TG Augustiner Betonsanierung
X-WR-TIMEZONE:Europe/Berlin
BEGIN:VEVENT
UID:32525459533b9d99@ausschreibungsradar.com
DTSTAMP:20260425T110121Z
DTSTART;VALUE=DATE:20260217
DTEND;VALUE=DATE:20260217
SUMMARY:Angebotsfrist — TG Augustiner Betonsanierung
DESCRIPTION:Phase: Ausschreibung | Beschreibung: Angebote werden eingeholt | Link: https://ausschreibungsradar.com/ausschreibung/a769ff21-d318-4dbc-b0e3-cd167ab682af/
URL:https://ausschreibungsradar.com/ausschreibung/a769ff21-d318-4dbc-b0e3-cd167ab682af/
END:VEVENT
END:VCALENDAR
