BEGIN:VCALENDAR
VERSION:2.0
PRODID:-//AusschreibungsRadar//Timeline//DE
CALSCALE:GREGORIAN
METHOD:PUBLISH
X-WR-CALNAME:Projekt Stadtwerke Kirchheim unter Teck Reinigung
X-WR-TIMEZONE:Europe/Berlin
BEGIN:VEVENT
UID:51a5ab6415f29782@ausschreibungsradar.com
DTSTAMP:20260426T004403Z
DTSTART;VALUE=DATE:20260220
DTEND;VALUE=DATE:20260220
SUMMARY:Angebotsfrist — Stadtwerke Kirchheim unter Teck Reinigung
DESCRIPTION:Phase: Ausschreibung | Beschreibung: Angebote werden eingeholt | Link: https://ausschreibungsradar.com/ausschreibung/a88d47f6-a7f2-4c00-aeab-7c3fa3b8f30a/
URL:https://ausschreibungsradar.com/ausschreibung/a88d47f6-a7f2-4c00-aeab-7c3fa3b8f30a/
END:VEVENT
END:VCALENDAR
