BEGIN:VCALENDAR
VERSION:2.0
PRODID:-//AusschreibungsRadar//Timeline//DE
CALSCALE:GREGORIAN
METHOD:PUBLISH
X-WR-CALNAME:Projekt 6002778178-BwDLZ Hannover Unterhaltsreingung Scharnhorst-Kas
X-WR-TIMEZONE:Europe/Berlin
BEGIN:VEVENT
UID:37ea8e82fe23c155@ausschreibungsradar.com
DTSTAMP:20260424T113331Z
DTSTART;VALUE=DATE:20241227
DTEND;VALUE=DATE:20241227
SUMMARY:Ausschreibung — 6002778178-BwDLZ Hannover Unterhaltsreingung Scharnhorst-Kas
DESCRIPTION:Phase: Ausschreibung | Beschreibung: Angebote werden eingeholt | Link: https://ausschreibungsradar.com/ausschreibung/a8f9b0c7-4e93-4740-bec4-6127cf821287/
URL:https://ausschreibungsradar.com/ausschreibung/a8f9b0c7-4e93-4740-bec4-6127cf821287/
END:VEVENT
BEGIN:VEVENT
UID:3362787f9988671c@ausschreibungsradar.com
DTSTAMP:20260424T113331Z
DTSTART;VALUE=DATE:20250225
DTEND;VALUE=DATE:20250225
SUMMARY:Vergabeergebnis — 6002778178-BwDLZ Hannover Unterhaltsreingung Scharnhorst-Kas
DESCRIPTION:Phase: Vergabeergebnis | Beschreibung: Auftrag wurde zugeschlagen | Link: https://ausschreibungsradar.com/ausschreibung/06c1616b-60a3-4bfd-86fc-d6540f4c98ab/
URL:https://ausschreibungsradar.com/ausschreibung/06c1616b-60a3-4bfd-86fc-d6540f4c98ab/
END:VEVENT
END:VCALENDAR
