BEGIN:VCALENDAR
VERSION:2.0
PRODID:-//AusschreibungsRadar//Timeline//DE
CALSCALE:GREGORIAN
METHOD:PUBLISH
X-WR-CALNAME:Projekt Umbau und Sanierung Rathaus Gengenbach - Aufzugsanlagen
X-WR-TIMEZONE:Europe/Berlin
BEGIN:VEVENT
UID:1e31fbab7a0acea0@ausschreibungsradar.com
DTSTAMP:20260424T094752Z
DTSTART;VALUE=DATE:20251103
DTEND;VALUE=DATE:20251103
SUMMARY:Zuschlag — Umbau und Sanierung Rathaus Gengenbach - Aufzugsanlagen
DESCRIPTION:Phase: Zuschlag | Beschreibung: Vergabeergebnis — Auftrag wurde erteilt oder Verfahren beendet. | Link: https://ausschreibungsradar.com/ausschreibung/bf71440c-140c-43e9-9447-ac3450934dc7/
URL:https://ausschreibungsradar.com/ausschreibung/bf71440c-140c-43e9-9447-ac3450934dc7/
END:VEVENT
BEGIN:VEVENT
UID:76ebbc10fe9446a6@ausschreibungsradar.com
DTSTAMP:20260424T094752Z
DTSTART;VALUE=DATE:20251117
DTEND;VALUE=DATE:20251117
SUMMARY:Ausschreibung — Umbau und Sanierung Rathaus Gengenbach - Aufzugsanlagen
DESCRIPTION:Phase: Ausschreibung | Beschreibung: Offizielle Ausschreibung mit Bieterfrist. | Link: https://ausschreibungsradar.com/ausschreibung/1b73e602-77ab-45fa-930e-32aceeb0001b/
URL:https://ausschreibungsradar.com/ausschreibung/1b73e602-77ab-45fa-930e-32aceeb0001b/
END:VEVENT
BEGIN:VEVENT
UID:92883f43174daa23@ausschreibungsradar.com
DTSTAMP:20260424T094752Z
DTSTART;VALUE=DATE:20251117
DTEND;VALUE=DATE:20251117
SUMMARY:Ausschreibung — Umbau und Sanierung Rathaus Gengenbach - Aufzugsanlagen
DESCRIPTION:Phase: Ausschreibung | Beschreibung: Offizielle Ausschreibung mit Bieterfrist. | Link: https://ausschreibungsradar.com/ausschreibung/16de3ecb-39d1-44d7-bddd-3c9964729183/
URL:https://ausschreibungsradar.com/ausschreibung/16de3ecb-39d1-44d7-bddd-3c9964729183/
END:VEVENT
BEGIN:VEVENT
UID:c314db8ad0786e6d@ausschreibungsradar.com
DTSTAMP:20260424T094752Z
DTSTART;VALUE=DATE:20251124
DTEND;VALUE=DATE:20251124
SUMMARY:Zuschlag — Umbau und Sanierung Rathaus Gengenbach - Aufzugsanlagen
DESCRIPTION:Phase: Zuschlag | Beschreibung: Vergabeergebnis — Auftrag wurde erteilt oder Verfahren beendet. | Link: https://ausschreibungsradar.com/ausschreibung/a90104cb-ccbe-4e55-86fe-3d76e7a5cbb5/ | Geschätzte
URL:https://ausschreibungsradar.com/ausschreibung/a90104cb-ccbe-4e55-86fe-3d76e7a5cbb5/
END:VEVENT
BEGIN:VEVENT
UID:c93e4007c76414ca@ausschreibungsradar.com
DTSTAMP:20260424T094752Z
DTSTART;VALUE=DATE:20251222
DTEND;VALUE=DATE:20251222
SUMMARY:Ausschreibung — Umbau und Sanierung Rathaus Gengenbach - Aufzugsanlagen
DESCRIPTION:Phase: Ausschreibung | Beschreibung: Offizielle Ausschreibung mit Bieterfrist. | Link: https://ausschreibungsradar.com/ausschreibung/bd595364-f5a7-4a67-9c17-a48faf080f91/
URL:https://ausschreibungsradar.com/ausschreibung/bd595364-f5a7-4a67-9c17-a48faf080f91/
END:VEVENT
END:VCALENDAR
