BEGIN:VCALENDAR
VERSION:2.0
PRODID:-//AusschreibungsRadar//Timeline//DE
CALSCALE:GREGORIAN
METHOD:PUBLISH
X-WR-CALNAME:Projekt HPK Fahrdienst AWO Bielefeld
X-WR-TIMEZONE:Europe/Berlin
BEGIN:VEVENT
UID:fe3f09a3c3ae5465@ausschreibungsradar.com
DTSTAMP:20260424T202029Z
DTSTART;VALUE=DATE:20240404
DTEND;VALUE=DATE:20240404
SUMMARY:Angebotsfrist — HPK Fahrdienst AWO Bielefeld
DESCRIPTION:Phase: Ausschreibung | Beschreibung: Angebote werden eingeholt | Link: https://ausschreibungsradar.com/ausschreibung/a9022d09-a666-4ac0-8b13-20e57ab842ba/
URL:https://ausschreibungsradar.com/ausschreibung/a9022d09-a666-4ac0-8b13-20e57ab842ba/
END:VEVENT
BEGIN:VEVENT
UID:f26061550342c307@ausschreibungsradar.com
DTSTAMP:20260424T202029Z
DTSTART;VALUE=DATE:20240223
DTEND;VALUE=DATE:20240223
SUMMARY:Ausschreibung — HPK Fahrdienst AWO Bielefeld
DESCRIPTION:Phase: Ausschreibung | Beschreibung: Offizielle Ausschreibung mit Bieterfrist. | Link: https://ausschreibungsradar.com/ausschreibung/a0fc2575-50dc-405d-9a23-2c178b33d172/
URL:https://ausschreibungsradar.com/ausschreibung/a0fc2575-50dc-405d-9a23-2c178b33d172/
END:VEVENT
BEGIN:VEVENT
UID:cb490fa8e176d34f@ausschreibungsradar.com
DTSTAMP:20260424T202029Z
DTSTART;VALUE=DATE:20240604
DTEND;VALUE=DATE:20240604
SUMMARY:Vergabeergebnis — HPK Fahrdienst AWO Bielefeld
DESCRIPTION:Phase: Vergabeergebnis | Beschreibung: Sonstige Gründe | Link: https://ausschreibungsradar.com/ausschreibung/855ec45e-b945-4a10-93ea-2af87e776ff4/
URL:https://ausschreibungsradar.com/ausschreibung/855ec45e-b945-4a10-93ea-2af87e776ff4/
END:VEVENT
END:VCALENDAR
