BEGIN:VCALENDAR
VERSION:2.0
PRODID:-//AusschreibungsRadar//Timeline//DE
CALSCALE:GREGORIAN
METHOD:PUBLISH
X-WR-CALNAME:Projekt Vergabe digitale Alarmierung
X-WR-TIMEZONE:Europe/Berlin
BEGIN:VEVENT
UID:a7c9ffebbffb0c73@ausschreibungsradar.com
DTSTAMP:20260424T002646Z
DTSTART;VALUE=DATE:20250401
DTEND;VALUE=DATE:20250401
SUMMARY:Angebotsfrist — Vergabe digitale Alarmierung
DESCRIPTION:Phase: Ausschreibung | Beschreibung: Angebote werden eingeholt | Link: https://ausschreibungsradar.com/ausschreibung/51fedf04-5c49-4d47-87fe-45008c15939d/
URL:https://ausschreibungsradar.com/ausschreibung/51fedf04-5c49-4d47-87fe-45008c15939d/
END:VEVENT
BEGIN:VEVENT
UID:8f768a9b6eb12245@ausschreibungsradar.com
DTSTAMP:20260424T002646Z
DTSTART;VALUE=DATE:20250228
DTEND;VALUE=DATE:20250228
SUMMARY:Ausschreibung — Vergabe digitale Alarmierung
DESCRIPTION:Phase: Ausschreibung | Beschreibung: Offizielle Ausschreibung mit Bieterfrist. | Link: https://ausschreibungsradar.com/ausschreibung/e46ea1c6-df6e-4a59-ac0c-1ce0d978bb25/
URL:https://ausschreibungsradar.com/ausschreibung/e46ea1c6-df6e-4a59-ac0c-1ce0d978bb25/
END:VEVENT
BEGIN:VEVENT
UID:d88e92c8eb987d17@ausschreibungsradar.com
DTSTAMP:20260424T002646Z
DTSTART;VALUE=DATE:20250508
DTEND;VALUE=DATE:20250508
SUMMARY:Vergabeergebnis — Vergabe digitale Alarmierung
DESCRIPTION:Phase: Vergabeergebnis | Beschreibung: Auftrag wurde zugeschlagen | Link: https://ausschreibungsradar.com/ausschreibung/a92b9bc0-06d4-4c82-8c4d-ee10d36c95e3/
URL:https://ausschreibungsradar.com/ausschreibung/a92b9bc0-06d4-4c82-8c4d-ee10d36c95e3/
END:VEVENT
END:VCALENDAR
