BEGIN:VCALENDAR
VERSION:2.0
PRODID:-//AusschreibungsRadar//Timeline//DE
CALSCALE:GREGORIAN
METHOD:PUBLISH
X-WR-CALNAME:Projekt Beschaffung von zwei Drehleitern DL(A)K 23/12 für die Feuerw
X-WR-TIMEZONE:Europe/Berlin
BEGIN:VEVENT
UID:5e44b81244bcc5c1@ausschreibungsradar.com
DTSTAMP:20260425T215401Z
DTSTART;VALUE=DATE:20251124
DTEND;VALUE=DATE:20251124
SUMMARY:Angebotsfrist — Beschaffung von zwei Drehleitern DL(A)K 23/12 für die Feuerw
DESCRIPTION:Phase: Ausschreibung | Beschreibung: Angebote werden eingeholt | Link: https://ausschreibungsradar.com/ausschreibung/a9568686-ed24-48bc-a38d-9e04e611d090/
URL:https://ausschreibungsradar.com/ausschreibung/a9568686-ed24-48bc-a38d-9e04e611d090/
END:VEVENT
BEGIN:VEVENT
UID:8a2fab9cad028fd2@ausschreibungsradar.com
DTSTAMP:20260425T215401Z
DTSTART;VALUE=DATE:20251202
DTEND;VALUE=DATE:20251202
SUMMARY:Vergabeergebnis — Beschaffung von zwei Drehleitern DL(A)K 23/12 für die Feuerw
DESCRIPTION:Phase: Vergabeergebnis | Beschreibung: Auftrag wurde zugeschlagen | Link: https://ausschreibungsradar.com/ausschreibung/565d6a9e-b258-40bf-85b2-f77c818d8f16/
URL:https://ausschreibungsradar.com/ausschreibung/565d6a9e-b258-40bf-85b2-f77c818d8f16/
END:VEVENT
END:VCALENDAR
